BEGIN:VCALENDAR
VERSION:2.0
PRODID:-//Observer Building - ECPv6.15.20//NONSGML v1.0//EN
CALSCALE:GREGORIAN
METHOD:PUBLISH
X-ORIGINAL-URL:https://theobserverbuilding.org.uk
X-WR-CALDESC:Events for Observer Building
REFRESH-INTERVAL;VALUE=DURATION:PT1H
X-Robots-Tag:noindex
X-PUBLISHED-TTL:PT1H
BEGIN:VTIMEZONE
TZID:Europe/London
BEGIN:DAYLIGHT
TZOFFSETFROM:+0000
TZOFFSETTO:+0100
TZNAME:BST
DTSTART:20230326T010000
END:DAYLIGHT
BEGIN:STANDARD
TZOFFSETFROM:+0100
TZOFFSETTO:+0000
TZNAME:GMT
DTSTART:20231029T010000
END:STANDARD
BEGIN:DAYLIGHT
TZOFFSETFROM:+0000
TZOFFSETTO:+0100
TZNAME:BST
DTSTART:20240331T010000
END:DAYLIGHT
BEGIN:STANDARD
TZOFFSETFROM:+0100
TZOFFSETTO:+0000
TZNAME:GMT
DTSTART:20241027T010000
END:STANDARD
BEGIN:DAYLIGHT
TZOFFSETFROM:+0000
TZOFFSETTO:+0100
TZNAME:BST
DTSTART:20250330T010000
END:DAYLIGHT
BEGIN:STANDARD
TZOFFSETFROM:+0100
TZOFFSETTO:+0000
TZNAME:GMT
DTSTART:20251026T010000
END:STANDARD
END:VTIMEZONE
BEGIN:VEVENT
DTSTART;TZID=Europe/London:20241205T120000
DTEND;TZID=Europe/London:20241205T150000
DTSTAMP:20260425T012917
CREATED:20241112T111530Z
LAST-MODIFIED:20241212T152206Z
UID:10000122-1733400000-1733410800@theobserverbuilding.org.uk
SUMMARY:Christmas Danceaway
DESCRIPTION:Join us for a Christmas Danceaway! Step back in time and groove to the classics at our Danceaway. Get ready to dance the day away to the unforgettable vocals of singer Ritchie Lee! \n\n\n\nPlease note this event is for over 60s only. The venue is fully accessible. There will be a licensed bar  with food and coffee available to purchase.
URL:https://theobserverbuilding.org.uk/event/christmas-danceaway/
LOCATION:Observer Building\, 53 Cambridge Road\, Hastings\, TN34 1DT\, United Kingdom
ATTACH;FMTTYPE=image/png:https://theobserverbuilding.org.uk/wp-content/uploads/2024/11/DANCEAWAY-BONNIE-1.png
END:VEVENT
BEGIN:VEVENT
DTSTART;TZID=Europe/London:20241207T110000
DTEND;TZID=Europe/London:20241208T170000
DTSTAMP:20260425T012917
CREATED:20240807T110025Z
LAST-MODIFIED:20241212T151847Z
UID:10000088-1733569200-1733677200@theobserverbuilding.org.uk
SUMMARY:Observer Building Christmas Market
DESCRIPTION:The Observer Building will be holding a Christmas market on Saturday the 7th and Sunday the 8th of December from 11am – 5pm. \n\n\n\nShop and support local with a wide range of handpicked crafts! We will also be serving hot food\, drinks and mulled wine!
URL:https://theobserverbuilding.org.uk/event/observer-building-christmas-market/
LOCATION:Observer Building\, 53 Cambridge Road\, Hastings\, TN34 1DT\, United Kingdom
ATTACH;FMTTYPE=image/png:https://theobserverbuilding.org.uk/wp-content/uploads/2024/08/Christmas-Market-post-socials-version.png
END:VEVENT
END:VCALENDAR