BEGIN:VCALENDAR
VERSION:2.0
PRODID:-//Observer Building - ECPv6.15.20//NONSGML v1.0//EN
CALSCALE:GREGORIAN
METHOD:PUBLISH
X-ORIGINAL-URL:https://theobserverbuilding.org.uk
X-WR-CALDESC:Events for Observer Building
REFRESH-INTERVAL;VALUE=DURATION:PT1H
X-Robots-Tag:noindex
X-PUBLISHED-TTL:PT1H
BEGIN:VTIMEZONE
TZID:Europe/London
BEGIN:DAYLIGHT
TZOFFSETFROM:+0000
TZOFFSETTO:+0100
TZNAME:BST
DTSTART:20240331T010000
END:DAYLIGHT
BEGIN:STANDARD
TZOFFSETFROM:+0100
TZOFFSETTO:+0000
TZNAME:GMT
DTSTART:20241027T010000
END:STANDARD
BEGIN:DAYLIGHT
TZOFFSETFROM:+0000
TZOFFSETTO:+0100
TZNAME:BST
DTSTART:20250330T010000
END:DAYLIGHT
BEGIN:STANDARD
TZOFFSETFROM:+0100
TZOFFSETTO:+0000
TZNAME:GMT
DTSTART:20251026T010000
END:STANDARD
BEGIN:DAYLIGHT
TZOFFSETFROM:+0000
TZOFFSETTO:+0100
TZNAME:BST
DTSTART:20260329T010000
END:DAYLIGHT
BEGIN:STANDARD
TZOFFSETFROM:+0100
TZOFFSETTO:+0000
TZNAME:GMT
DTSTART:20261025T010000
END:STANDARD
END:VTIMEZONE
BEGIN:VEVENT
DTSTART;TZID=Europe/London:20250703T100000
DTEND;TZID=Europe/London:20250703T120000
DTSTAMP:20260424T124823
CREATED:20250609T075733Z
LAST-MODIFIED:20250609T075734Z
UID:10000544-1751536800-1751544000@theobserverbuilding.org.uk
SUMMARY:Open Tech Thursdays - OBX
DESCRIPTION:
URL:https://theobserverbuilding.org.uk/event/open-tech-thursdays-obx-15/2025-07-03/
LOCATION:Observer Building\, 53 Cambridge Road\, Hastings\, TN34 1DT\, United Kingdom
ATTACH;FMTTYPE=image/png:https://theobserverbuilding.org.uk/wp-content/uploads/2025/01/OPEN-TECh-THURSDAYS.png
ORGANIZER;CN="OBX":MAILTO:obx@hastingscommons.com
END:VEVENT
BEGIN:VEVENT
DTSTART;TZID=Europe/London:20250703T183000
DTEND;TZID=Europe/London:20250703T203000
DTSTAMP:20260424T124823
CREATED:20250609T092454Z
LAST-MODIFIED:20250609T092455Z
UID:10000831-1751567400-1751574600@theobserverbuilding.org.uk
SUMMARY:OBX Connects - The Art of Data
DESCRIPTION:OBX Connects is a series of talks and meet-ups for people working with creative technology. The talks are free\, and open to everyone. If you are an artist\, maker\, technologist\, engineer\, dancer\, musician\, activist or just curious about what we do\, come along to find out more! \n\n\n\nThe next OBX Connects is on July 3rd. There will be a talk from local artists Beccy McCray and Will MacNeil about how they use data within their work for local communities and brands.  \n\n\n\nEntry is free but tickets are required to manage numbers.  \n\n\n\nMore information can be found on Eventbrite here.
URL:https://theobserverbuilding.org.uk/event/obx-connects-the-art-of-data/
LOCATION:Observer Building\, 53 Cambridge Road\, Hastings\, TN34 1DT\, United Kingdom
ATTACH;FMTTYPE=image/png:https://theobserverbuilding.org.uk/wp-content/uploads/2025/06/Zero-Malaria-Experience-Will-MacNeil.png
ORGANIZER;CN="OBX":MAILTO:obx@hastingscommons.com
END:VEVENT
BEGIN:VEVENT
DTSTART;TZID=Europe/London:20250710T100000
DTEND;TZID=Europe/London:20250710T120000
DTSTAMP:20260424T124823
CREATED:20250609T075733Z
LAST-MODIFIED:20250609T075734Z
UID:10000545-1752141600-1752148800@theobserverbuilding.org.uk
SUMMARY:Open Tech Thursdays - OBX
DESCRIPTION:
URL:https://theobserverbuilding.org.uk/event/open-tech-thursdays-obx-15/2025-07-10/
LOCATION:Observer Building\, 53 Cambridge Road\, Hastings\, TN34 1DT\, United Kingdom
ATTACH;FMTTYPE=image/png:https://theobserverbuilding.org.uk/wp-content/uploads/2025/01/OPEN-TECh-THURSDAYS.png
ORGANIZER;CN="OBX":MAILTO:obx@hastingscommons.com
END:VEVENT
BEGIN:VEVENT
DTSTART;TZID=Europe/London:20250711T120000
DTEND;TZID=Europe/London:20250711T150000
DTSTAMP:20260424T124823
CREATED:20250618T135208Z
LAST-MODIFIED:20250618T135209Z
UID:10000834-1752235200-1752246000@theobserverbuilding.org.uk
SUMMARY:60s Danceaway July
DESCRIPTION:Hoist the sales\, don your eyepatches and join us for our July Danceaway. Its pirate themed in honour of Hastings Pirate Day in July.  \n\n\n\nDanceaway is an event for those aged 60+. It is fully accessible with a licenced bar on site with tea/coffee and food available.  \n\n\n\n£5 entry free on the door.
URL:https://theobserverbuilding.org.uk/event/60s-danceaway-july/
LOCATION:Observer Building\, 53 Cambridge Road\, Hastings\, TN34 1DT\, United Kingdom
ATTACH;FMTTYPE=image/png:https://theobserverbuilding.org.uk/wp-content/uploads/2025/06/July-danceaway.png
END:VEVENT
BEGIN:VEVENT
DTSTART;TZID=Europe/London:20250717T100000
DTEND;TZID=Europe/London:20250717T120000
DTSTAMP:20260424T124823
CREATED:20250609T075733Z
LAST-MODIFIED:20250609T075734Z
UID:10000546-1752746400-1752753600@theobserverbuilding.org.uk
SUMMARY:Open Tech Thursdays - OBX
DESCRIPTION:
URL:https://theobserverbuilding.org.uk/event/open-tech-thursdays-obx-15/2025-07-17/
LOCATION:Observer Building\, 53 Cambridge Road\, Hastings\, TN34 1DT\, United Kingdom
ATTACH;FMTTYPE=image/png:https://theobserverbuilding.org.uk/wp-content/uploads/2025/01/OPEN-TECh-THURSDAYS.png
ORGANIZER;CN="OBX":MAILTO:obx@hastingscommons.com
END:VEVENT
BEGIN:VEVENT
DTSTART;TZID=Europe/London:20250719T093000
DTEND;TZID=Europe/London:20250720T160000
DTSTAMP:20260424T124823
CREATED:20250618T143615Z
LAST-MODIFIED:20250618T143616Z
UID:10000835-1752917400-1753027200@theobserverbuilding.org.uk
SUMMARY:Hastings International Ceramics Fair
DESCRIPTION:Join us for the Hastings International ceramics fair at the Observer Building. Two days showcasing the best in local and international ceramic art featuring local ceramic organisations:  \n\n\n\n-Blacklands ceramic studio \n\n\n\n-The Mudworks \n\n\n\n-Common Clay CIC \n\n\n\n-Eastbourne Studio Pottery \n\n\n\n-St Leonards Ceramics \n\n\n\nThe event will run over two days.  \n\n\n\nSaturday – 9.30am – 5pm \n\n\n\nSunday – 10am – 4pm.
URL:https://theobserverbuilding.org.uk/event/hastings-international-ceramics-fair/
LOCATION:Observer Building\, 53 Cambridge Road\, Hastings\, TN34 1DT\, United Kingdom
ATTACH;FMTTYPE=image/jpeg:https://theobserverbuilding.org.uk/wp-content/uploads/2025/06/Ceramics-fair-scaled.jpg
END:VEVENT
BEGIN:VEVENT
DTSTART;TZID=Europe/London:20250724T100000
DTEND;TZID=Europe/London:20250724T120000
DTSTAMP:20260424T124823
CREATED:20250609T075733Z
LAST-MODIFIED:20250609T075734Z
UID:10000547-1753351200-1753358400@theobserverbuilding.org.uk
SUMMARY:Open Tech Thursdays - OBX
DESCRIPTION:
URL:https://theobserverbuilding.org.uk/event/open-tech-thursdays-obx-15/2025-07-24/
LOCATION:Observer Building\, 53 Cambridge Road\, Hastings\, TN34 1DT\, United Kingdom
ATTACH;FMTTYPE=image/png:https://theobserverbuilding.org.uk/wp-content/uploads/2025/01/OPEN-TECh-THURSDAYS.png
ORGANIZER;CN="OBX":MAILTO:obx@hastingscommons.com
END:VEVENT
BEGIN:VEVENT
DTSTART;TZID=Europe/London:20250731T090000
DTEND;TZID=Europe/London:20250731T100000
DTSTAMP:20260424T124823
CREATED:20250630T100616Z
LAST-MODIFIED:20250630T100657Z
UID:10000393-1753952400-1753956000@theobserverbuilding.org.uk
SUMMARY:Hastings Tech Forum (in partnership with Vehicle Smart)
DESCRIPTION:Are you a local entrepreneur or tech professional? Do you work in UX design\, creative technology\, or digital marketing? Do you want to connect with likeminded people working in Hastings and St Leonards? \n\n\n\nCome to Hastings Tech Forum! \n\n\n\nStart your day with a coffee and the chance to meet other local people working in digital technology businesses. \n\n\n\nThis event is organised in partnership with Vehicle Smart who will sponsor a free coffee for all booked places! Book here! \n\n\n\nFind out more about Vehicle Smart here: https://www.vehiclesmart.com
URL:https://theobserverbuilding.org.uk/event/hastings-tech-forum-in-partnership-with-vehicle-smart-2/
LOCATION:Observer Building\, 53 Cambridge Road\, Hastings\, TN34 1DT\, United Kingdom
ATTACH;FMTTYPE=image/jpeg:https://theobserverbuilding.org.uk/wp-content/uploads/2025/01/The-Tech-Forum.jpg
END:VEVENT
BEGIN:VEVENT
DTSTART;TZID=Europe/London:20250731T100000
DTEND;TZID=Europe/London:20250731T120000
DTSTAMP:20260424T124823
CREATED:20250609T075733Z
LAST-MODIFIED:20250609T075734Z
UID:10000548-1753956000-1753963200@theobserverbuilding.org.uk
SUMMARY:Open Tech Thursdays - OBX
DESCRIPTION:
URL:https://theobserverbuilding.org.uk/event/open-tech-thursdays-obx-15/2025-07-31/
LOCATION:Observer Building\, 53 Cambridge Road\, Hastings\, TN34 1DT\, United Kingdom
ATTACH;FMTTYPE=image/png:https://theobserverbuilding.org.uk/wp-content/uploads/2025/01/OPEN-TECh-THURSDAYS.png
ORGANIZER;CN="OBX":MAILTO:obx@hastingscommons.com
END:VEVENT
END:VCALENDAR