BEGIN:VCALENDAR
VERSION:2.0
PRODID:-//Observer Building - ECPv6.15.20//NONSGML v1.0//EN
CALSCALE:GREGORIAN
METHOD:PUBLISH
X-WR-CALNAME:Observer Building
X-ORIGINAL-URL:https://theobserverbuilding.org.uk
X-WR-CALDESC:Events for Observer Building
REFRESH-INTERVAL;VALUE=DURATION:PT1H
X-Robots-Tag:noindex
X-PUBLISHED-TTL:PT1H
BEGIN:VTIMEZONE
TZID:Europe/London
BEGIN:DAYLIGHT
TZOFFSETFROM:+0000
TZOFFSETTO:+0100
TZNAME:BST
DTSTART:20240331T010000
END:DAYLIGHT
BEGIN:STANDARD
TZOFFSETFROM:+0100
TZOFFSETTO:+0000
TZNAME:GMT
DTSTART:20241027T010000
END:STANDARD
BEGIN:DAYLIGHT
TZOFFSETFROM:+0000
TZOFFSETTO:+0100
TZNAME:BST
DTSTART:20250330T010000
END:DAYLIGHT
BEGIN:STANDARD
TZOFFSETFROM:+0100
TZOFFSETTO:+0000
TZNAME:GMT
DTSTART:20251026T010000
END:STANDARD
BEGIN:DAYLIGHT
TZOFFSETFROM:+0000
TZOFFSETTO:+0100
TZNAME:BST
DTSTART:20260329T010000
END:DAYLIGHT
BEGIN:STANDARD
TZOFFSETFROM:+0100
TZOFFSETTO:+0000
TZNAME:GMT
DTSTART:20261025T010000
END:STANDARD
BEGIN:DAYLIGHT
TZOFFSETFROM:+0000
TZOFFSETTO:+0100
TZNAME:BST
DTSTART:20270328T010000
END:DAYLIGHT
BEGIN:STANDARD
TZOFFSETFROM:+0100
TZOFFSETTO:+0000
TZNAME:GMT
DTSTART:20271031T010000
END:STANDARD
END:VTIMEZONE
BEGIN:VEVENT
DTSTART;TZID=Europe/London:20251204T100000
DTEND;TZID=Europe/London:20251204T120000
DTSTAMP:20260424T165023
CREATED:20250609T075733Z
LAST-MODIFIED:20250609T075734Z
UID:10000566-1764842400-1764849600@theobserverbuilding.org.uk
SUMMARY:Open Tech Thursdays - OBX
DESCRIPTION:
URL:https://theobserverbuilding.org.uk/event/open-tech-thursdays-obx-15/2025-12-04/
LOCATION:Observer Building\, 53 Cambridge Road\, Hastings\, TN34 1DT\, United Kingdom
ATTACH;FMTTYPE=image/png:https://theobserverbuilding.org.uk/wp-content/uploads/2025/01/OPEN-TECh-THURSDAYS.png
ORGANIZER;CN="OBX":MAILTO:obx@hastingscommons.com
END:VEVENT
BEGIN:VEVENT
DTSTART;TZID=Europe/London:20251206T110000
DTEND;TZID=Europe/London:20251206T160000
DTSTAMP:20260424T165023
CREATED:20251104T132716Z
LAST-MODIFIED:20251104T133457Z
UID:10000874-1765018800-1765036800@theobserverbuilding.org.uk
SUMMARY:Indoor Christmas Market
DESCRIPTION:Join us for 2 days of shopping magic with over 30 different stalls. Enjoy food and drink\, including mulled wine\, in a light and warm dog friendly space!
URL:https://theobserverbuilding.org.uk/event/indoor-christmas-market/2025-12-06/
LOCATION:Hastings
ATTACH;FMTTYPE=image/jpeg:https://theobserverbuilding.org.uk/wp-content/uploads/2025/11/2025-Christmas-Poster-JPEG.jpg
END:VEVENT
BEGIN:VEVENT
DTSTART;TZID=Europe/London:20251207T110000
DTEND;TZID=Europe/London:20251207T160000
DTSTAMP:20260424T165023
CREATED:20251104T132716Z
LAST-MODIFIED:20251104T133457Z
UID:10000875-1765105200-1765123200@theobserverbuilding.org.uk
SUMMARY:Indoor Christmas Market
DESCRIPTION:Join us for 2 days of shopping magic with over 30 different stalls. Enjoy food and drink\, including mulled wine\, in a light and warm dog friendly space!
URL:https://theobserverbuilding.org.uk/event/indoor-christmas-market/2025-12-07/
LOCATION:Hastings
ATTACH;FMTTYPE=image/jpeg:https://theobserverbuilding.org.uk/wp-content/uploads/2025/11/2025-Christmas-Poster-JPEG.jpg
END:VEVENT
BEGIN:VEVENT
DTSTART;TZID=Europe/London:20251211T100000
DTEND;TZID=Europe/London:20251211T120000
DTSTAMP:20260424T165023
CREATED:20250609T075733Z
LAST-MODIFIED:20250609T075734Z
UID:10000567-1765447200-1765454400@theobserverbuilding.org.uk
SUMMARY:Open Tech Thursdays - OBX
DESCRIPTION:
URL:https://theobserverbuilding.org.uk/event/open-tech-thursdays-obx-15/2025-12-11/
LOCATION:Observer Building\, 53 Cambridge Road\, Hastings\, TN34 1DT\, United Kingdom
ATTACH;FMTTYPE=image/png:https://theobserverbuilding.org.uk/wp-content/uploads/2025/01/OPEN-TECh-THURSDAYS.png
ORGANIZER;CN="OBX":MAILTO:obx@hastingscommons.com
END:VEVENT
BEGIN:VEVENT
DTSTART;TZID=Europe/London:20251212T120000
DTEND;TZID=Europe/London:20251212T150000
DTSTAMP:20260424T165023
CREATED:20251106T161058Z
LAST-MODIFIED:20251106T161059Z
UID:10000876-1765540800-1765551600@theobserverbuilding.org.uk
SUMMARY:Over 60's Danceaway December
DESCRIPTION:It’s Christmas! Join us for an afternoon of dancing\, singing\, laughing and chatting. And more dancing! Live entertainment provided by the amazing Hayley Ellis. \n\n\n\nDanceaway is an event for those aged 60+. It is fully accessible with a licenced bar on site with tea/coffee and food available. \n\n\n\n£5 entry on the door.
URL:https://theobserverbuilding.org.uk/event/over-60s-danceaway-december/
LOCATION:Hastings
ATTACH;FMTTYPE=image/jpeg:https://theobserverbuilding.org.uk/wp-content/uploads/2025/11/December-2025.jpg
END:VEVENT
BEGIN:VEVENT
DTSTART;TZID=Europe/London:20251218T100000
DTEND;TZID=Europe/London:20251218T120000
DTSTAMP:20260424T165023
CREATED:20250609T075733Z
LAST-MODIFIED:20250609T075734Z
UID:10000568-1766052000-1766059200@theobserverbuilding.org.uk
SUMMARY:Open Tech Thursdays - OBX
DESCRIPTION:
URL:https://theobserverbuilding.org.uk/event/open-tech-thursdays-obx-15/2025-12-18/
LOCATION:Observer Building\, 53 Cambridge Road\, Hastings\, TN34 1DT\, United Kingdom
ATTACH;FMTTYPE=image/png:https://theobserverbuilding.org.uk/wp-content/uploads/2025/01/OPEN-TECh-THURSDAYS.png
ORGANIZER;CN="OBX":MAILTO:obx@hastingscommons.com
END:VEVENT
BEGIN:VEVENT
DTSTART;TZID=Europe/London:20251225T100000
DTEND;TZID=Europe/London:20251225T120000
DTSTAMP:20260424T165023
CREATED:20250609T075733Z
LAST-MODIFIED:20250609T075734Z
UID:10000569-1766656800-1766664000@theobserverbuilding.org.uk
SUMMARY:Open Tech Thursdays - OBX
DESCRIPTION:
URL:https://theobserverbuilding.org.uk/event/open-tech-thursdays-obx-15/2025-12-25/
LOCATION:Observer Building\, 53 Cambridge Road\, Hastings\, TN34 1DT\, United Kingdom
ATTACH;FMTTYPE=image/png:https://theobserverbuilding.org.uk/wp-content/uploads/2025/01/OPEN-TECh-THURSDAYS.png
ORGANIZER;CN="OBX":MAILTO:obx@hastingscommons.com
END:VEVENT
BEGIN:VEVENT
DTSTART;TZID=Europe/London:20260101T100000
DTEND;TZID=Europe/London:20260101T120000
DTSTAMP:20260424T165023
CREATED:20250609T075733Z
LAST-MODIFIED:20250609T075734Z
UID:10000570-1767261600-1767268800@theobserverbuilding.org.uk
SUMMARY:Open Tech Thursdays - OBX
DESCRIPTION:
URL:https://theobserverbuilding.org.uk/event/open-tech-thursdays-obx-15/2026-01-01/
LOCATION:Observer Building\, 53 Cambridge Road\, Hastings\, TN34 1DT\, United Kingdom
ATTACH;FMTTYPE=image/png:https://theobserverbuilding.org.uk/wp-content/uploads/2025/01/OPEN-TECh-THURSDAYS.png
ORGANIZER;CN="OBX":MAILTO:obx@hastingscommons.com
END:VEVENT
BEGIN:VEVENT
DTSTART;TZID=Europe/London:20260108T100000
DTEND;TZID=Europe/London:20260108T120000
DTSTAMP:20260424T165023
CREATED:20250609T075733Z
LAST-MODIFIED:20250609T075734Z
UID:10000571-1767866400-1767873600@theobserverbuilding.org.uk
SUMMARY:Open Tech Thursdays - OBX
DESCRIPTION:
URL:https://theobserverbuilding.org.uk/event/open-tech-thursdays-obx-15/2026-01-08/
LOCATION:Observer Building\, 53 Cambridge Road\, Hastings\, TN34 1DT\, United Kingdom
ATTACH;FMTTYPE=image/png:https://theobserverbuilding.org.uk/wp-content/uploads/2025/01/OPEN-TECh-THURSDAYS.png
ORGANIZER;CN="OBX":MAILTO:obx@hastingscommons.com
END:VEVENT
BEGIN:VEVENT
DTSTART;TZID=Europe/London:20260115T100000
DTEND;TZID=Europe/London:20260115T120000
DTSTAMP:20260424T165023
CREATED:20250609T075733Z
LAST-MODIFIED:20250609T075734Z
UID:10000572-1768471200-1768478400@theobserverbuilding.org.uk
SUMMARY:Open Tech Thursdays - OBX
DESCRIPTION:
URL:https://theobserverbuilding.org.uk/event/open-tech-thursdays-obx-15/2026-01-15/
LOCATION:Observer Building\, 53 Cambridge Road\, Hastings\, TN34 1DT\, United Kingdom
ATTACH;FMTTYPE=image/png:https://theobserverbuilding.org.uk/wp-content/uploads/2025/01/OPEN-TECh-THURSDAYS.png
ORGANIZER;CN="OBX":MAILTO:obx@hastingscommons.com
END:VEVENT
BEGIN:VEVENT
DTSTART;TZID=Europe/London:20260116T120000
DTEND;TZID=Europe/London:20260116T150000
DTSTAMP:20260424T165023
CREATED:20251218T103233Z
LAST-MODIFIED:20251218T103236Z
UID:10000877-1768564800-1768575600@theobserverbuilding.org.uk
SUMMARY:Over 60's Danceaway January
DESCRIPTION:Dance away those winter blues with an afternoon of fun and music! It’s cold outside but it’s warm indoors! \n\n\n\nDanceaway is an event for those aged 60+. It is fully accessible with a licenced bar on site with tea/coffee and food available. \n\n\n\n£5 entry on the door.
URL:https://theobserverbuilding.org.uk/event/over-60s-danceaway-january/
LOCATION:Hastings
ATTACH;FMTTYPE=image/jpeg:https://theobserverbuilding.org.uk/wp-content/uploads/2025/12/January-2026-JPEG.jpg
END:VEVENT
BEGIN:VEVENT
DTSTART;TZID=Europe/London:20260122T100000
DTEND;TZID=Europe/London:20260122T120000
DTSTAMP:20260424T165023
CREATED:20250609T075733Z
LAST-MODIFIED:20250609T075734Z
UID:10000573-1769076000-1769083200@theobserverbuilding.org.uk
SUMMARY:Open Tech Thursdays - OBX
DESCRIPTION:
URL:https://theobserverbuilding.org.uk/event/open-tech-thursdays-obx-15/2026-01-22/
LOCATION:Observer Building\, 53 Cambridge Road\, Hastings\, TN34 1DT\, United Kingdom
ATTACH;FMTTYPE=image/png:https://theobserverbuilding.org.uk/wp-content/uploads/2025/01/OPEN-TECh-THURSDAYS.png
ORGANIZER;CN="OBX":MAILTO:obx@hastingscommons.com
END:VEVENT
BEGIN:VEVENT
DTSTART;TZID=Europe/London:20260129T100000
DTEND;TZID=Europe/London:20260129T120000
DTSTAMP:20260424T165023
CREATED:20250609T075733Z
LAST-MODIFIED:20250609T075734Z
UID:10000574-1769680800-1769688000@theobserverbuilding.org.uk
SUMMARY:Open Tech Thursdays - OBX
DESCRIPTION:
URL:https://theobserverbuilding.org.uk/event/open-tech-thursdays-obx-15/2026-01-29/
LOCATION:Observer Building\, 53 Cambridge Road\, Hastings\, TN34 1DT\, United Kingdom
ATTACH;FMTTYPE=image/png:https://theobserverbuilding.org.uk/wp-content/uploads/2025/01/OPEN-TECh-THURSDAYS.png
ORGANIZER;CN="OBX":MAILTO:obx@hastingscommons.com
END:VEVENT
BEGIN:VEVENT
DTSTART;TZID=Europe/London:20260205T100000
DTEND;TZID=Europe/London:20260205T120000
DTSTAMP:20260424T165023
CREATED:20250609T075733Z
LAST-MODIFIED:20250609T075734Z
UID:10000575-1770285600-1770292800@theobserverbuilding.org.uk
SUMMARY:Open Tech Thursdays - OBX
DESCRIPTION:
URL:https://theobserverbuilding.org.uk/event/open-tech-thursdays-obx-15/2026-02-05/
LOCATION:Observer Building\, 53 Cambridge Road\, Hastings\, TN34 1DT\, United Kingdom
ATTACH;FMTTYPE=image/png:https://theobserverbuilding.org.uk/wp-content/uploads/2025/01/OPEN-TECh-THURSDAYS.png
ORGANIZER;CN="OBX":MAILTO:obx@hastingscommons.com
END:VEVENT
BEGIN:VEVENT
DTSTART;TZID=Europe/London:20260212T100000
DTEND;TZID=Europe/London:20260212T120000
DTSTAMP:20260424T165023
CREATED:20250609T075733Z
LAST-MODIFIED:20250609T075734Z
UID:10000576-1770890400-1770897600@theobserverbuilding.org.uk
SUMMARY:Open Tech Thursdays - OBX
DESCRIPTION:
URL:https://theobserverbuilding.org.uk/event/open-tech-thursdays-obx-15/2026-02-12/
LOCATION:Observer Building\, 53 Cambridge Road\, Hastings\, TN34 1DT\, United Kingdom
ATTACH;FMTTYPE=image/png:https://theobserverbuilding.org.uk/wp-content/uploads/2025/01/OPEN-TECh-THURSDAYS.png
ORGANIZER;CN="OBX":MAILTO:obx@hastingscommons.com
END:VEVENT
BEGIN:VEVENT
DTSTART;TZID=Europe/London:20260213T120000
DTEND;TZID=Europe/London:20260213T150000
DTSTAMP:20260424T165023
CREATED:20260119T152343Z
LAST-MODIFIED:20260119T152344Z
UID:10000880-1770984000-1770994800@theobserverbuilding.org.uk
SUMMARY:Over 60's Danceaway February
DESCRIPTION:Love is all around – even on Friday 13th! Join singer Hayley as she entertains you with music through the decades. \n\n\n\nDanceaway is an event for those aged 60+. It is fully accessible with a licenced bar on site with tea/coffee and food available. \n\n\n\n£5 entry on the door.
URL:https://theobserverbuilding.org.uk/event/over-60s-danceaway-february/
LOCATION:Hastings
ATTACH;FMTTYPE=image/jpeg:https://theobserverbuilding.org.uk/wp-content/uploads/2026/01/Feb-2026-JPEG.jpg
END:VEVENT
BEGIN:VEVENT
DTSTART;TZID=Europe/London:20260213T160000
DTEND;TZID=Europe/London:20260213T213000
DTSTAMP:20260424T165023
CREATED:20260121T162251Z
LAST-MODIFIED:20260121T162253Z
UID:10000883-1770998400-1771018200@theobserverbuilding.org.uk
SUMMARY:Rooftop Bar Valentine Weekender
DESCRIPTION:Join us on our iconic rooftop bar for one weekend only! \n\n\n\nWe can’t promise good weather\, but we can offer a warm welcome\, cocktails and cake and the best views in Hastings… \n\n\n\nBring the love (and your dog)! \n\n\n\n\n\n\n\nNo booking required. \n\n\n\n\n\n\n\nFriday 13th February: 4pm – 9:30pm \n\n\n\nSaturday 14th February: 12 noon – 9:30pm \n\n\n\nSunday 15th February: 12 noon – 6pm
URL:https://theobserverbuilding.org.uk/event/rooftop-bar-valentine-weekender-day-1/
LOCATION:Hastings
ATTACH;FMTTYPE=image/jpeg:https://theobserverbuilding.org.uk/wp-content/uploads/2026/01/Valentines-Post-JPEG.jpg
END:VEVENT
BEGIN:VEVENT
DTSTART;TZID=Europe/London:20260214T120000
DTEND;TZID=Europe/London:20260214T213000
DTSTAMP:20260424T165023
CREATED:20260121T162550Z
LAST-MODIFIED:20260121T162551Z
UID:10000884-1771070400-1771104600@theobserverbuilding.org.uk
SUMMARY:Rooftop Bar Valentine Weekender
DESCRIPTION:Join us on our iconic rooftop bar for one weekend only! \n\n\n\nWe can’t promise good weather\, but we can offer a warm welcome\, cocktails and cake and the best views in Hastings… \n\n\n\nBring the love (and your dog)! \n\n\n\n\n\n\n\nNo booking required. \n\n\n\n\n\n\n\nFriday 13th February: 4pm – 9:30pm \n\n\n\nSaturday 14th February: 12 noon – 9:30pm \n\n\n\nSunday 15th February: 12 noon – 6pm
URL:https://theobserverbuilding.org.uk/event/rooftop-bar-valentine-weekender-day-2/
LOCATION:Hastings
ATTACH;FMTTYPE=image/jpeg:https://theobserverbuilding.org.uk/wp-content/uploads/2026/01/Valentines-Post-JPEG.jpg
END:VEVENT
BEGIN:VEVENT
DTSTART;TZID=Europe/London:20260215T120000
DTEND;TZID=Europe/London:20260215T180000
DTSTAMP:20260424T165023
CREATED:20260121T162734Z
LAST-MODIFIED:20260121T162755Z
UID:10000885-1771156800-1771178400@theobserverbuilding.org.uk
SUMMARY:Rooftop Bar Valentine Weekender
DESCRIPTION:Join us on our iconic rooftop bar for one weekend only! \n\n\n\nWe can’t promise good weather\, but we can offer a warm welcome\, cocktails and cake and the best views in Hastings… \n\n\n\nBring the love (and your dog)! \n\n\n\n\n\n\n\nNo booking required. \n\n\n\n\n\n\n\nFriday 13th February: 4pm – 9:30pm \n\n\n\nSaturday 14th February: 12 noon – 9:30pm \n\n\n\nSunday 15th February: 12 noon – 6pm
URL:https://theobserverbuilding.org.uk/event/rooftop-bar-valentine-weekender-day-3/
LOCATION:Hastings
ATTACH;FMTTYPE=image/jpeg:https://theobserverbuilding.org.uk/wp-content/uploads/2026/01/Valentines-Post-JPEG.jpg
END:VEVENT
BEGIN:VEVENT
DTSTART;TZID=Europe/London:20260219T100000
DTEND;TZID=Europe/London:20260219T120000
DTSTAMP:20260424T165023
CREATED:20250609T075733Z
LAST-MODIFIED:20250609T075734Z
UID:10000577-1771495200-1771502400@theobserverbuilding.org.uk
SUMMARY:Open Tech Thursdays - OBX
DESCRIPTION:
URL:https://theobserverbuilding.org.uk/event/open-tech-thursdays-obx-15/2026-02-19/
LOCATION:Observer Building\, 53 Cambridge Road\, Hastings\, TN34 1DT\, United Kingdom
ATTACH;FMTTYPE=image/png:https://theobserverbuilding.org.uk/wp-content/uploads/2025/01/OPEN-TECh-THURSDAYS.png
ORGANIZER;CN="OBX":MAILTO:obx@hastingscommons.com
END:VEVENT
BEGIN:VEVENT
DTSTART;TZID=Europe/London:20260226T100000
DTEND;TZID=Europe/London:20260226T120000
DTSTAMP:20260424T165023
CREATED:20250609T075733Z
LAST-MODIFIED:20250609T075734Z
UID:10000578-1772100000-1772107200@theobserverbuilding.org.uk
SUMMARY:Open Tech Thursdays - OBX
DESCRIPTION:
URL:https://theobserverbuilding.org.uk/event/open-tech-thursdays-obx-15/2026-02-26/
LOCATION:Observer Building\, 53 Cambridge Road\, Hastings\, TN34 1DT\, United Kingdom
ATTACH;FMTTYPE=image/png:https://theobserverbuilding.org.uk/wp-content/uploads/2025/01/OPEN-TECh-THURSDAYS.png
ORGANIZER;CN="OBX":MAILTO:obx@hastingscommons.com
END:VEVENT
BEGIN:VEVENT
DTSTART;TZID=Europe/London:20260305T100000
DTEND;TZID=Europe/London:20260305T120000
DTSTAMP:20260424T165023
CREATED:20250609T075733Z
LAST-MODIFIED:20250609T075734Z
UID:10000579-1772704800-1772712000@theobserverbuilding.org.uk
SUMMARY:Open Tech Thursdays - OBX
DESCRIPTION:
URL:https://theobserverbuilding.org.uk/event/open-tech-thursdays-obx-15/2026-03-05/
LOCATION:Observer Building\, 53 Cambridge Road\, Hastings\, TN34 1DT\, United Kingdom
ATTACH;FMTTYPE=image/png:https://theobserverbuilding.org.uk/wp-content/uploads/2025/01/OPEN-TECh-THURSDAYS.png
ORGANIZER;CN="OBX":MAILTO:obx@hastingscommons.com
END:VEVENT
BEGIN:VEVENT
DTSTART;TZID=Europe/London:20260306T120000
DTEND;TZID=Europe/London:20260306T150000
DTSTAMP:20260424T165023
CREATED:20260217T101236Z
LAST-MODIFIED:20260217T101237Z
UID:10000887-1772798400-1772809200@theobserverbuilding.org.uk
SUMMARY:Over 60's Danceaway March
DESCRIPTION:Put a Spring in your step with this month’s Danceaway! Live entertainment from West End star Andrew Newey. Dust off your dance shoes and enjoy the music! \n\n\n\nDanceaway is an event for those aged 60+. It is fully accessible with a licenced bar on site with tea/coffee and food available. \n\n\n\n£5 entry on the door.
URL:https://theobserverbuilding.org.uk/event/over-60s-danceaway-march/
LOCATION:Hastings
ATTACH;FMTTYPE=image/jpeg:https://theobserverbuilding.org.uk/wp-content/uploads/2026/02/March-2026-JPEG.jpg
END:VEVENT
BEGIN:VEVENT
DTSTART;TZID=Europe/London:20260312T100000
DTEND;TZID=Europe/London:20260312T120000
DTSTAMP:20260424T165023
CREATED:20250609T075733Z
LAST-MODIFIED:20250609T075734Z
UID:10000580-1773309600-1773316800@theobserverbuilding.org.uk
SUMMARY:Open Tech Thursdays - OBX
DESCRIPTION:
URL:https://theobserverbuilding.org.uk/event/open-tech-thursdays-obx-15/2026-03-12/
LOCATION:Observer Building\, 53 Cambridge Road\, Hastings\, TN34 1DT\, United Kingdom
ATTACH;FMTTYPE=image/png:https://theobserverbuilding.org.uk/wp-content/uploads/2025/01/OPEN-TECh-THURSDAYS.png
ORGANIZER;CN="OBX":MAILTO:obx@hastingscommons.com
END:VEVENT
BEGIN:VEVENT
DTSTART;TZID=Europe/London:20260319T100000
DTEND;TZID=Europe/London:20260319T120000
DTSTAMP:20260424T165023
CREATED:20250609T075733Z
LAST-MODIFIED:20250609T075734Z
UID:10000581-1773914400-1773921600@theobserverbuilding.org.uk
SUMMARY:Open Tech Thursdays - OBX
DESCRIPTION:
URL:https://theobserverbuilding.org.uk/event/open-tech-thursdays-obx-15/2026-03-19/
LOCATION:Observer Building\, 53 Cambridge Road\, Hastings\, TN34 1DT\, United Kingdom
ATTACH;FMTTYPE=image/png:https://theobserverbuilding.org.uk/wp-content/uploads/2025/01/OPEN-TECh-THURSDAYS.png
ORGANIZER;CN="OBX":MAILTO:obx@hastingscommons.com
END:VEVENT
BEGIN:VEVENT
DTSTART;TZID=Europe/London:20260326T100000
DTEND;TZID=Europe/London:20260326T120000
DTSTAMP:20260424T165023
CREATED:20250609T075733Z
LAST-MODIFIED:20250609T075734Z
UID:10000582-1774519200-1774526400@theobserverbuilding.org.uk
SUMMARY:Open Tech Thursdays - OBX
DESCRIPTION:
URL:https://theobserverbuilding.org.uk/event/open-tech-thursdays-obx-15/2026-03-26/
LOCATION:Observer Building\, 53 Cambridge Road\, Hastings\, TN34 1DT\, United Kingdom
ATTACH;FMTTYPE=image/png:https://theobserverbuilding.org.uk/wp-content/uploads/2025/01/OPEN-TECh-THURSDAYS.png
ORGANIZER;CN="OBX":MAILTO:obx@hastingscommons.com
END:VEVENT
BEGIN:VEVENT
DTSTART;TZID=Europe/London:20260328T090000
DTEND;TZID=Europe/London:20260328T173000
DTSTAMP:20260424T165023
CREATED:20260209T164828Z
LAST-MODIFIED:20260209T164829Z
UID:10000886-1774688400-1774719000@theobserverbuilding.org.uk
SUMMARY:Psychedelic Symposium
DESCRIPTION:A one day event bringing together researchers\, therapists\, and community voices to explore psychedelics through science\, culture\, lived experience\, and real world questions. \n\n\n\nA thoughtful day of talks and conversation on mental health\, connection\, meaning\, and integration. Open to the curious\, the professional\, and the community.
URL:https://theobserverbuilding.org.uk/event/psychedelic-symposium/
LOCATION:Hastings
ATTACH;FMTTYPE=image/jpeg:https://theobserverbuilding.org.uk/wp-content/uploads/2026/02/Instagram-Psychedleic-Symposium-event-banner.jpg
END:VEVENT
BEGIN:VEVENT
DTSTART;TZID=Europe/London:20260515T120000
DTEND;TZID=Europe/London:20260515T150000
DTSTAMP:20260424T165023
CREATED:20260421T091049Z
LAST-MODIFIED:20260421T091051Z
UID:10000888-1778846400-1778857200@theobserverbuilding.org.uk
SUMMARY:Over 60's Danceaway- May
DESCRIPTION:It’s the beginning of Summer\, so let’s party! Join the musical duo Melody for an afternoon of live singing and dancing. \n\n\n\nDanceaway is an event for those aged 60+. It is fully accessible with a licenced bar on site with tea/coffee and food available. \n\n\n\n£5 entry on the door.
URL:https://theobserverbuilding.org.uk/event/over-60s-danceaway-may/
LOCATION:Hastings
ATTACH;FMTTYPE=image/jpeg:https://theobserverbuilding.org.uk/wp-content/uploads/2026/04/May-2026-JPEG.jpg
END:VEVENT
BEGIN:VEVENT
DTSTART;TZID=Europe/London:20260606T100000
DTEND;TZID=Europe/London:20260606T160000
DTSTAMP:20260424T165023
CREATED:20260421T132726Z
LAST-MODIFIED:20260421T133612Z
UID:10000889-1780740000-1780761600@theobserverbuilding.org.uk
SUMMARY:Observer Building Spring Market
DESCRIPTION:A variety of fantastic stalls in our fully accessible\, dog-friendly venue.
URL:https://theobserverbuilding.org.uk/event/observer-building-spring-market/
LOCATION:Observer Building\, 53 Cambridge Road\, Hastings\, TN34 1DT\, United Kingdom
ATTACH;FMTTYPE=image/jpeg:https://theobserverbuilding.org.uk/wp-content/uploads/2026/04/SPRING-MARKET-2026.jpg
END:VEVENT
END:VCALENDAR