BEGIN:VCALENDAR
VERSION:2.0
PRODID:-//Observer Building - ECPv6.15.20//NONSGML v1.0//EN
CALSCALE:GREGORIAN
METHOD:PUBLISH
X-ORIGINAL-URL:https://theobserverbuilding.org.uk
X-WR-CALDESC:Events for Observer Building
REFRESH-INTERVAL;VALUE=DURATION:PT1H
X-Robots-Tag:noindex
X-PUBLISHED-TTL:PT1H
BEGIN:VTIMEZONE
TZID:Europe/London
BEGIN:DAYLIGHT
TZOFFSETFROM:+0000
TZOFFSETTO:+0100
TZNAME:BST
DTSTART:20220327T010000
END:DAYLIGHT
BEGIN:STANDARD
TZOFFSETFROM:+0100
TZOFFSETTO:+0000
TZNAME:GMT
DTSTART:20221030T010000
END:STANDARD
BEGIN:DAYLIGHT
TZOFFSETFROM:+0000
TZOFFSETTO:+0100
TZNAME:BST
DTSTART:20230326T010000
END:DAYLIGHT
BEGIN:STANDARD
TZOFFSETFROM:+0100
TZOFFSETTO:+0000
TZNAME:GMT
DTSTART:20231029T010000
END:STANDARD
BEGIN:DAYLIGHT
TZOFFSETFROM:+0000
TZOFFSETTO:+0100
TZNAME:BST
DTSTART:20240331T010000
END:DAYLIGHT
BEGIN:STANDARD
TZOFFSETFROM:+0100
TZOFFSETTO:+0000
TZNAME:GMT
DTSTART:20241027T010000
END:STANDARD
END:VTIMEZONE
BEGIN:VEVENT
DTSTART;TZID=Europe/London:20230902T110000
DTEND;TZID=Europe/London:20230902T160000
DTSTAMP:20260421T084339
CREATED:20230530T211254Z
LAST-MODIFIED:20230709T074007Z
UID:10000020-1693652400-1693670400@theobserverbuilding.org.uk
SUMMARY:Frock up Friday: Vintage Market
DESCRIPTION:Frock Up Friday Market – 11am to 4pm \n\n\n\nVintage clothing market\, where you can shop\, grab a drink and be entertained by music from the fabulous Bamboozle and a sermon of self-love from the sensation that is Lou Featherstone aka LuinLuland. \n\n\n\n \n\n\n\nFull Frock up Friday programme and ticket details can be found at https://www.frockupfriday.com/festival-programme
URL:https://theobserverbuilding.org.uk/event/frock-up-friday-market/
LOCATION:Observer Building\, 53 Cambridge Road\, Hastings\, TN34 1DT\, United Kingdom
ATTACH;FMTTYPE=image/jpeg:https://theobserverbuilding.org.uk/wp-content/uploads/2023/07/FrockUpFriday.jpg
END:VEVENT
BEGIN:VEVENT
DTSTART;TZID=Europe/London:20230901T190000
DTEND;TZID=Europe/London:20230901T230000
DTSTAMP:20260421T084339
CREATED:20230701T165831Z
LAST-MODIFIED:20230816T101419Z
UID:10000027-1693594800-1693609200@theobserverbuilding.org.uk
SUMMARY:Frock up Friday: Cabaret night
DESCRIPTION:Friday Night Cabaret – 7pm – 11pm \n\n\n\nA variety of musical entertainment\, burlesque and comedy to delight you. Acts include drag from Persephone\, burlesque from Babette Royale\, music from Thomasin Tresize\, Steve Accordion and the amazing Andy Twyman and much more.  \n\n\n\nDress Code: Ultraglam! \n\n\n\n \n\n\n\nFull Frock up Friday programme and ticket details can be found at: https://www.frockupfriday.com/festival-programme
URL:https://theobserverbuilding.org.uk/event/frock-up-friday-cabaret-night/
LOCATION:Observer Building\, 53 Cambridge Road\, Hastings\, TN34 1DT\, United Kingdom
ATTACH;FMTTYPE=image/jpeg:https://theobserverbuilding.org.uk/wp-content/uploads/2023/07/FrockUpFriday.jpg
END:VEVENT
BEGIN:VEVENT
DTSTART;TZID=Europe/London:20230817T180000
DTEND;TZID=Europe/London:20230817T210000
DTSTAMP:20260421T084339
CREATED:20230619T155357Z
LAST-MODIFIED:20230719T133109Z
UID:10000024-1692295200-1692306000@theobserverbuilding.org.uk
SUMMARY:OB Sounds: Drum and Bass Shoulder2Shoulder UK takeover
DESCRIPTION:The Hastings Youth Commons presents OB Sounds\, the first of a series of regular music nights for under 18’s at the Observer Building. \n\n\n\nWe kick off with a Drum N Bass\, Jungle and more night for 14-17 year olds with DJs Shoulder2Shoulder UK. Plus\, more artists to be announced! \n\n\n\nCLICK HERE FOR TICKETS \n\n\n\n\nT﻿his is an under 18’s event (age 14-17).\n\n\n\nNo alcohol will be served.\n\n\n\nB﻿ag searches on entrance.\n\n\n\nDrinks or food are not allowed to be brought into the venue. This includes bottles of water. Free drinking water will be available on request from the bar.\n\n\n\nSIA Security and staff presence will be at the event.
URL:https://theobserverbuilding.org.uk/event/ob-sounds/
LOCATION:Observer Building\, 53 Cambridge Road\, Hastings\, TN34 1DT\, United Kingdom
ATTACH;FMTTYPE=image/jpeg:https://theobserverbuilding.org.uk/wp-content/uploads/2023/07/OBSounds17Aug2023.jpg
END:VEVENT
BEGIN:VEVENT
DTSTART;TZID=Europe/London:20230801T180000
DTEND;TZID=Europe/London:20230801T210000
DTSTAMP:20260421T084339
CREATED:20230703T150809Z
LAST-MODIFIED:20230704T172316Z
UID:10000031-1690912800-1690923600@theobserverbuilding.org.uk
SUMMARY:Hastings Creatives Networking
DESCRIPTION:A real-life networking event for creatives of all kinds who live in the east end of East Sussex Please make and wear your own name badge! \n\n\n\nPlease see here for tickets https://www.eventbrite.co.uk/e/hastings-creatives-networking-event-tickets-671546703267
URL:https://theobserverbuilding.org.uk/event/hastings-creatives-networking/
LOCATION:Observer Building\, 53 Cambridge Road\, Hastings\, TN34 1DT\, United Kingdom
ATTACH;FMTTYPE=image/jpeg:https://theobserverbuilding.org.uk/wp-content/uploads/2023/07/HastingsCreativeNetworking.jpg
END:VEVENT
BEGIN:VEVENT
DTSTART;TZID=Europe/London:20230727T000000
DTEND;TZID=Europe/London:20230727T235959
DTSTAMP:20260421T084339
CREATED:20230530T210946Z
LAST-MODIFIED:20230706T092205Z
UID:10000016-1690416000-1690502399@theobserverbuilding.org.uk
SUMMARY:Transpride: Love You Sew Much & Cinema
DESCRIPTION:Cinema Day (Under 18’s) – 4.30pm – 6.00pm FREE \n\n\n\nShorts programmed by Asten Holmes-Elliottwith an introduction by Fox FisherTwo-spirit teens\, queer/trans skate jams and roller derby enbys all feature in this joyful chaos of short films specially programmed for young trans folk. Come down and bring your gender creativity\, you’ll be in good company! \n\n\n\nWith an introduction by Hastings born Filmmaker and illustrator Fox Fisher \n\n\n\nAge 10 upwards; parents\, pals\, siblings and carers welcome. Find out more and book tickets here. \n\n\n\n\n\nLove You Sew Much – 4.30pm – 7.00pm – FREEFor parents\, partners and pals of trans folk.Drop into this informal session with a seamstress and a facilitator to sew some love into a fabric offering for the trans\, non-binary or gender-expansive person in your life. We hope to facilitate meaningful chat while you craft and share tips on how we can love and support our trans folk. No sewing experience is necessary\, all materials are provided.Book tickets here. \n\n\n\nCinema Night (Over 18’s) – Doors 6.30pm Film 7.00pm – FREEKOKOMO CITY\, 2023A wildly entertaining and refreshingly unfiltered documentary directed by D. Smith and executive produced by Lena Waithe. KOKOMO CITY passes the mic to four Black trans sex workers who hold nothing back. \n\n\n\nStarring Daniella Carter\, Koko Da Doll\, Liyah Mitchell and Dominique Silver \n\n\n\nWinner of Sundance Film Festival’s NEXT Innovator Award and NEXT Audience Award.Book tickets here.
URL:https://theobserverbuilding.org.uk/event/transpride-film-night/
LOCATION:Observer Building\, 53 Cambridge Road\, Hastings\, TN34 1DT\, United Kingdom
ATTACH;FMTTYPE=image/png:https://theobserverbuilding.org.uk/wp-content/uploads/2023/07/TransPrideHastings.png
END:VEVENT
BEGIN:VEVENT
DTSTART;TZID=Europe/London:20230726T140000
DTEND;TZID=Europe/London:20230726T160000
DTSTAMP:20260421T084339
CREATED:20230530T210842Z
LAST-MODIFIED:20230706T092210Z
UID:10000015-1690380000-1690387200@theobserverbuilding.org.uk
SUMMARY:Transpride Business Training
DESCRIPTION:TNBI inclusion and awareness training for local businesses. \n\n\n\nOur training aims to give a fuller understanding of what it means to be trans\, non-binary\, intersex or gender expansive (TNBI)\, the needs of our community\, and how participants can work towards making their organisation a safe environment for TNBI people.  \n\n\n\nOur two hour session is delivered by Victoria Oldman\, Training Lead for The Clare Project (clareproject.org.uk) and co-organiser of Trans Pride Hastings. \n\n\n\n\n\n \n\n\n\nAREAS COVERED: \n\n\n\n• Community Awareness• Introduction to LGBTQIA+ identities• Understanding TNBI (Trans\, Non-Binary and Intersex).• The Binary\, Gender and Culture\, Biological Sex• Understanding and supporting transition• Pronouns and best practices• What can we do to support our TNBI community?• Why is support needed? (reports and statistics)• What can YOU do?• Q&A \n\n\n\nFind out more at: https://transpridehastings.uk/localbusiness
URL:https://theobserverbuilding.org.uk/event/transpride-business-training/
LOCATION:Observer Building\, 53 Cambridge Road\, Hastings\, TN34 1DT\, United Kingdom
ATTACH;FMTTYPE=image/png:https://theobserverbuilding.org.uk/wp-content/uploads/2023/07/TransPrideHastings.png
END:VEVENT
BEGIN:VEVENT
DTSTART;TZID=Europe/London:20230722T110000
DTEND;TZID=Europe/London:20230722T160000
DTSTAMP:20260421T084339
CREATED:20230530T210658Z
LAST-MODIFIED:20230719T133108Z
UID:10000014-1690023600-1690041600@theobserverbuilding.org.uk
SUMMARY:Craft/Artisan Market
DESCRIPTION:Join us for the Craft & Artisan Market on 22nd July – The biggest Market venue in Hastings\, come rain or shine! \n\n\n\nWe have so many great local small businesses and Crafters for you to visit\, all under one roof. \n\n\n\nThe OB Cafe will also be open offering a selection of cakes\, savories and hot/cold drinks.
URL:https://theobserverbuilding.org.uk/event/craft-artisan-market/
LOCATION:Observer Building\, 53 Cambridge Road\, Hastings\, TN34 1DT\, United Kingdom
ATTACH;FMTTYPE=image/jpeg:https://theobserverbuilding.org.uk/wp-content/uploads/2023/07/Market22July2023.jpg
ORGANIZER;CN="Streetwise Events":MAILTO:streetwiseevents1@gmail.com
END:VEVENT
END:VCALENDAR