BEGIN:VCALENDAR
VERSION:2.0
PRODID:-//Observer Building - ECPv6.15.20//NONSGML v1.0//EN
CALSCALE:GREGORIAN
METHOD:PUBLISH
X-ORIGINAL-URL:https://theobserverbuilding.org.uk
X-WR-CALDESC:Events for Observer Building
REFRESH-INTERVAL;VALUE=DURATION:PT1H
X-Robots-Tag:noindex
X-PUBLISHED-TTL:PT1H
BEGIN:VTIMEZONE
TZID:Europe/London
BEGIN:DAYLIGHT
TZOFFSETFROM:+0000
TZOFFSETTO:+0100
TZNAME:BST
DTSTART:20290325T010000
END:DAYLIGHT
BEGIN:STANDARD
TZOFFSETFROM:+0100
TZOFFSETTO:+0000
TZNAME:GMT
DTSTART:20291028T010000
END:STANDARD
BEGIN:DAYLIGHT
TZOFFSETFROM:+0000
TZOFFSETTO:+0100
TZNAME:BST
DTSTART:20300331T010000
END:DAYLIGHT
BEGIN:STANDARD
TZOFFSETFROM:+0100
TZOFFSETTO:+0000
TZNAME:GMT
DTSTART:20301027T010000
END:STANDARD
BEGIN:DAYLIGHT
TZOFFSETFROM:+0000
TZOFFSETTO:+0100
TZNAME:BST
DTSTART:20310330T010000
END:DAYLIGHT
BEGIN:STANDARD
TZOFFSETFROM:+0100
TZOFFSETTO:+0000
TZNAME:GMT
DTSTART:20311026T010000
END:STANDARD
END:VTIMEZONE
BEGIN:VEVENT
DTSTART;TZID=Europe/London:20300314T100000
DTEND;TZID=Europe/London:20300314T120000
DTSTAMP:20260420T090411
CREATED:20250120T160223Z
LAST-MODIFIED:20250120T160224Z
UID:10000813-1899712800-1899720000@theobserverbuilding.org.uk
SUMMARY:Open Tech Thursdays - OBX
DESCRIPTION:
URL:https://theobserverbuilding.org.uk/event/open-tech-thursdays-obx/2030-03-14/
LOCATION:Observer Building\, 53 Cambridge Road\, Hastings\, TN34 1DT\, United Kingdom
ATTACH;FMTTYPE=image/png:https://theobserverbuilding.org.uk/wp-content/uploads/2025/01/OPEN-TECh-THURSDAYS.png
ORGANIZER;CN="OBX":MAILTO:obx@hastingscommons.com
END:VEVENT
BEGIN:VEVENT
DTSTART;TZID=Europe/London:20300314T100000
DTEND;TZID=Europe/London:20300314T120000
DTSTAMP:20260420T090411
CREATED:20250609T075733Z
LAST-MODIFIED:20250609T075734Z
UID:10000789-1899712800-1899720000@theobserverbuilding.org.uk
SUMMARY:Open Tech Thursdays - OBX
DESCRIPTION:
URL:https://theobserverbuilding.org.uk/event/open-tech-thursdays-obx-15/2030-03-14/
LOCATION:Observer Building\, 53 Cambridge Road\, Hastings\, TN34 1DT\, United Kingdom
ATTACH;FMTTYPE=image/png:https://theobserverbuilding.org.uk/wp-content/uploads/2025/01/OPEN-TECh-THURSDAYS.png
ORGANIZER;CN="OBX":MAILTO:obx@hastingscommons.com
END:VEVENT
BEGIN:VEVENT
DTSTART;TZID=Europe/London:20300321T100000
DTEND;TZID=Europe/London:20300321T120000
DTSTAMP:20260420T090411
CREATED:20250120T160223Z
LAST-MODIFIED:20250120T160224Z
UID:10000814-1900317600-1900324800@theobserverbuilding.org.uk
SUMMARY:Open Tech Thursdays - OBX
DESCRIPTION:
URL:https://theobserverbuilding.org.uk/event/open-tech-thursdays-obx/2030-03-21/
LOCATION:Observer Building\, 53 Cambridge Road\, Hastings\, TN34 1DT\, United Kingdom
ATTACH;FMTTYPE=image/png:https://theobserverbuilding.org.uk/wp-content/uploads/2025/01/OPEN-TECh-THURSDAYS.png
ORGANIZER;CN="OBX":MAILTO:obx@hastingscommons.com
END:VEVENT
BEGIN:VEVENT
DTSTART;TZID=Europe/London:20300321T100000
DTEND;TZID=Europe/London:20300321T120000
DTSTAMP:20260420T090411
CREATED:20250609T075733Z
LAST-MODIFIED:20250609T075734Z
UID:10000790-1900317600-1900324800@theobserverbuilding.org.uk
SUMMARY:Open Tech Thursdays - OBX
DESCRIPTION:
URL:https://theobserverbuilding.org.uk/event/open-tech-thursdays-obx-15/2030-03-21/
LOCATION:Observer Building\, 53 Cambridge Road\, Hastings\, TN34 1DT\, United Kingdom
ATTACH;FMTTYPE=image/png:https://theobserverbuilding.org.uk/wp-content/uploads/2025/01/OPEN-TECh-THURSDAYS.png
ORGANIZER;CN="OBX":MAILTO:obx@hastingscommons.com
END:VEVENT
BEGIN:VEVENT
DTSTART;TZID=Europe/London:20300328T090000
DTEND;TZID=Europe/London:20300328T100000
DTSTAMP:20260420T090411
CREATED:20250121T104452Z
LAST-MODIFIED:20250121T104453Z
UID:10000838-1900918800-1900922400@theobserverbuilding.org.uk
SUMMARY:Hastings Tech Forum (in partnership with Vehicle Smart)
DESCRIPTION:Are you a local entrepreneur or tech professional? Do you work in UX design\, creative technology\, or digital marketing? Do you want to connect with likeminded people working in Hastings and St Leonards? \n\n\n\nCome to Hastings Tech Forum! \n\n\n\nStart your day with a coffee and the chance to meet other local people working in digital technology businesses. \n\n\n\nThis event is organised in partnership with Vehicle Smart who will sponsor a free coffee for all booked places! Book here! \n\n\n\nFind out more about Vehicle Smart here: https://www.vehiclesmart.com
URL:https://theobserverbuilding.org.uk/event/hastings-tech-forum-in-partnership-with-vehicle-smart/2030-03-28/
LOCATION:Observer Building\, 53 Cambridge Road\, Hastings\, TN34 1DT\, United Kingdom
ATTACH;FMTTYPE=image/jpeg:https://theobserverbuilding.org.uk/wp-content/uploads/2025/01/The-Tech-Forum.jpg
END:VEVENT
BEGIN:VEVENT
DTSTART;TZID=Europe/London:20300328T100000
DTEND;TZID=Europe/London:20300328T120000
DTSTAMP:20260420T090411
CREATED:20250120T160223Z
LAST-MODIFIED:20250120T160224Z
UID:10000815-1900922400-1900929600@theobserverbuilding.org.uk
SUMMARY:Open Tech Thursdays - OBX
DESCRIPTION:
URL:https://theobserverbuilding.org.uk/event/open-tech-thursdays-obx/2030-03-28/
LOCATION:Observer Building\, 53 Cambridge Road\, Hastings\, TN34 1DT\, United Kingdom
ATTACH;FMTTYPE=image/png:https://theobserverbuilding.org.uk/wp-content/uploads/2025/01/OPEN-TECh-THURSDAYS.png
ORGANIZER;CN="OBX":MAILTO:obx@hastingscommons.com
END:VEVENT
BEGIN:VEVENT
DTSTART;TZID=Europe/London:20300328T100000
DTEND;TZID=Europe/London:20300328T120000
DTSTAMP:20260420T090411
CREATED:20250609T075733Z
LAST-MODIFIED:20250609T075734Z
UID:10000791-1900922400-1900929600@theobserverbuilding.org.uk
SUMMARY:Open Tech Thursdays - OBX
DESCRIPTION:
URL:https://theobserverbuilding.org.uk/event/open-tech-thursdays-obx-15/2030-03-28/
LOCATION:Observer Building\, 53 Cambridge Road\, Hastings\, TN34 1DT\, United Kingdom
ATTACH;FMTTYPE=image/png:https://theobserverbuilding.org.uk/wp-content/uploads/2025/01/OPEN-TECh-THURSDAYS.png
ORGANIZER;CN="OBX":MAILTO:obx@hastingscommons.com
END:VEVENT
BEGIN:VEVENT
DTSTART;TZID=Europe/London:20300401T180000
DTEND;TZID=Europe/London:20300401T203000
DTSTAMP:20260420T090411
CREATED:20250407T141921Z
LAST-MODIFIED:20250407T142032Z
UID:10000515-1901296800-1901305800@theobserverbuilding.org.uk
SUMMARY:OBX Open Tech Nights
DESCRIPTION:Open tech nights take place on the 1st Monday of the month. They are a volunteer and community led monthly evening meet up offering a chance to chat\, share knowledge and access technology.
URL:https://theobserverbuilding.org.uk/event/obx-open-tech-nights/2030-04-01/
LOCATION:Observer Building\, 53 Cambridge Road\, Hastings\, TN34 1DT\, United Kingdom
ORGANIZER;CN="OBX":MAILTO:obx@hastingscommons.com
END:VEVENT
BEGIN:VEVENT
DTSTART;TZID=Europe/London:20300404T100000
DTEND;TZID=Europe/London:20300404T120000
DTSTAMP:20260420T090411
CREATED:20250120T160223Z
LAST-MODIFIED:20250120T160224Z
UID:10000816-1901527200-1901534400@theobserverbuilding.org.uk
SUMMARY:Open Tech Thursdays - OBX
DESCRIPTION:
URL:https://theobserverbuilding.org.uk/event/open-tech-thursdays-obx/2030-04-04/
LOCATION:Observer Building\, 53 Cambridge Road\, Hastings\, TN34 1DT\, United Kingdom
ATTACH;FMTTYPE=image/png:https://theobserverbuilding.org.uk/wp-content/uploads/2025/01/OPEN-TECh-THURSDAYS.png
ORGANIZER;CN="OBX":MAILTO:obx@hastingscommons.com
END:VEVENT
BEGIN:VEVENT
DTSTART;TZID=Europe/London:20300404T100000
DTEND;TZID=Europe/London:20300404T120000
DTSTAMP:20260420T090411
CREATED:20250609T075733Z
LAST-MODIFIED:20250609T075734Z
UID:10000792-1901527200-1901534400@theobserverbuilding.org.uk
SUMMARY:Open Tech Thursdays - OBX
DESCRIPTION:
URL:https://theobserverbuilding.org.uk/event/open-tech-thursdays-obx-15/2030-04-04/
LOCATION:Observer Building\, 53 Cambridge Road\, Hastings\, TN34 1DT\, United Kingdom
ATTACH;FMTTYPE=image/png:https://theobserverbuilding.org.uk/wp-content/uploads/2025/01/OPEN-TECh-THURSDAYS.png
ORGANIZER;CN="OBX":MAILTO:obx@hastingscommons.com
END:VEVENT
BEGIN:VEVENT
DTSTART;TZID=Europe/London:20300411T100000
DTEND;TZID=Europe/London:20300411T120000
DTSTAMP:20260420T090411
CREATED:20250120T160223Z
LAST-MODIFIED:20250120T160224Z
UID:10000817-1902132000-1902139200@theobserverbuilding.org.uk
SUMMARY:Open Tech Thursdays - OBX
DESCRIPTION:
URL:https://theobserverbuilding.org.uk/event/open-tech-thursdays-obx/2030-04-11/
LOCATION:Observer Building\, 53 Cambridge Road\, Hastings\, TN34 1DT\, United Kingdom
ATTACH;FMTTYPE=image/png:https://theobserverbuilding.org.uk/wp-content/uploads/2025/01/OPEN-TECh-THURSDAYS.png
ORGANIZER;CN="OBX":MAILTO:obx@hastingscommons.com
END:VEVENT
BEGIN:VEVENT
DTSTART;TZID=Europe/London:20300411T100000
DTEND;TZID=Europe/London:20300411T120000
DTSTAMP:20260420T090411
CREATED:20250609T075733Z
LAST-MODIFIED:20250609T075734Z
UID:10000793-1902132000-1902139200@theobserverbuilding.org.uk
SUMMARY:Open Tech Thursdays - OBX
DESCRIPTION:
URL:https://theobserverbuilding.org.uk/event/open-tech-thursdays-obx-15/2030-04-11/
LOCATION:Observer Building\, 53 Cambridge Road\, Hastings\, TN34 1DT\, United Kingdom
ATTACH;FMTTYPE=image/png:https://theobserverbuilding.org.uk/wp-content/uploads/2025/01/OPEN-TECh-THURSDAYS.png
ORGANIZER;CN="OBX":MAILTO:obx@hastingscommons.com
END:VEVENT
BEGIN:VEVENT
DTSTART;TZID=Europe/London:20300418T100000
DTEND;TZID=Europe/London:20300418T120000
DTSTAMP:20260420T090411
CREATED:20250120T160223Z
LAST-MODIFIED:20250120T160224Z
UID:10000818-1902736800-1902744000@theobserverbuilding.org.uk
SUMMARY:Open Tech Thursdays - OBX
DESCRIPTION:
URL:https://theobserverbuilding.org.uk/event/open-tech-thursdays-obx/2030-04-18/
LOCATION:Observer Building\, 53 Cambridge Road\, Hastings\, TN34 1DT\, United Kingdom
ATTACH;FMTTYPE=image/png:https://theobserverbuilding.org.uk/wp-content/uploads/2025/01/OPEN-TECh-THURSDAYS.png
ORGANIZER;CN="OBX":MAILTO:obx@hastingscommons.com
END:VEVENT
BEGIN:VEVENT
DTSTART;TZID=Europe/London:20300418T100000
DTEND;TZID=Europe/London:20300418T120000
DTSTAMP:20260420T090411
CREATED:20250609T075733Z
LAST-MODIFIED:20250609T075734Z
UID:10000794-1902736800-1902744000@theobserverbuilding.org.uk
SUMMARY:Open Tech Thursdays - OBX
DESCRIPTION:
URL:https://theobserverbuilding.org.uk/event/open-tech-thursdays-obx-15/2030-04-18/
LOCATION:Observer Building\, 53 Cambridge Road\, Hastings\, TN34 1DT\, United Kingdom
ATTACH;FMTTYPE=image/png:https://theobserverbuilding.org.uk/wp-content/uploads/2025/01/OPEN-TECh-THURSDAYS.png
ORGANIZER;CN="OBX":MAILTO:obx@hastingscommons.com
END:VEVENT
BEGIN:VEVENT
DTSTART;TZID=Europe/London:20300425T090000
DTEND;TZID=Europe/London:20300425T100000
DTSTAMP:20260420T090411
CREATED:20250121T104452Z
LAST-MODIFIED:20250121T104453Z
UID:10000839-1903338000-1903341600@theobserverbuilding.org.uk
SUMMARY:Hastings Tech Forum (in partnership with Vehicle Smart)
DESCRIPTION:Are you a local entrepreneur or tech professional? Do you work in UX design\, creative technology\, or digital marketing? Do you want to connect with likeminded people working in Hastings and St Leonards? \n\n\n\nCome to Hastings Tech Forum! \n\n\n\nStart your day with a coffee and the chance to meet other local people working in digital technology businesses. \n\n\n\nThis event is organised in partnership with Vehicle Smart who will sponsor a free coffee for all booked places! Book here! \n\n\n\nFind out more about Vehicle Smart here: https://www.vehiclesmart.com
URL:https://theobserverbuilding.org.uk/event/hastings-tech-forum-in-partnership-with-vehicle-smart/2030-04-25/
LOCATION:Observer Building\, 53 Cambridge Road\, Hastings\, TN34 1DT\, United Kingdom
ATTACH;FMTTYPE=image/jpeg:https://theobserverbuilding.org.uk/wp-content/uploads/2025/01/The-Tech-Forum.jpg
END:VEVENT
BEGIN:VEVENT
DTSTART;TZID=Europe/London:20300425T100000
DTEND;TZID=Europe/London:20300425T120000
DTSTAMP:20260420T090411
CREATED:20250120T160223Z
LAST-MODIFIED:20250120T160224Z
UID:10000819-1903341600-1903348800@theobserverbuilding.org.uk
SUMMARY:Open Tech Thursdays - OBX
DESCRIPTION:
URL:https://theobserverbuilding.org.uk/event/open-tech-thursdays-obx/2030-04-25/
LOCATION:Observer Building\, 53 Cambridge Road\, Hastings\, TN34 1DT\, United Kingdom
ATTACH;FMTTYPE=image/png:https://theobserverbuilding.org.uk/wp-content/uploads/2025/01/OPEN-TECh-THURSDAYS.png
ORGANIZER;CN="OBX":MAILTO:obx@hastingscommons.com
END:VEVENT
BEGIN:VEVENT
DTSTART;TZID=Europe/London:20300425T100000
DTEND;TZID=Europe/London:20300425T120000
DTSTAMP:20260420T090411
CREATED:20250609T075733Z
LAST-MODIFIED:20250609T075734Z
UID:10000795-1903341600-1903348800@theobserverbuilding.org.uk
SUMMARY:Open Tech Thursdays - OBX
DESCRIPTION:
URL:https://theobserverbuilding.org.uk/event/open-tech-thursdays-obx-15/2030-04-25/
LOCATION:Observer Building\, 53 Cambridge Road\, Hastings\, TN34 1DT\, United Kingdom
ATTACH;FMTTYPE=image/png:https://theobserverbuilding.org.uk/wp-content/uploads/2025/01/OPEN-TECh-THURSDAYS.png
ORGANIZER;CN="OBX":MAILTO:obx@hastingscommons.com
END:VEVENT
BEGIN:VEVENT
DTSTART;TZID=Europe/London:20300502T100000
DTEND;TZID=Europe/London:20300502T120000
DTSTAMP:20260420T090411
CREATED:20250120T160223Z
LAST-MODIFIED:20250120T160224Z
UID:10000820-1903946400-1903953600@theobserverbuilding.org.uk
SUMMARY:Open Tech Thursdays - OBX
DESCRIPTION:
URL:https://theobserverbuilding.org.uk/event/open-tech-thursdays-obx/2030-05-02/
LOCATION:Observer Building\, 53 Cambridge Road\, Hastings\, TN34 1DT\, United Kingdom
ATTACH;FMTTYPE=image/png:https://theobserverbuilding.org.uk/wp-content/uploads/2025/01/OPEN-TECh-THURSDAYS.png
ORGANIZER;CN="OBX":MAILTO:obx@hastingscommons.com
END:VEVENT
BEGIN:VEVENT
DTSTART;TZID=Europe/London:20300502T100000
DTEND;TZID=Europe/London:20300502T120000
DTSTAMP:20260420T090411
CREATED:20250609T075733Z
LAST-MODIFIED:20250609T075734Z
UID:10000796-1903946400-1903953600@theobserverbuilding.org.uk
SUMMARY:Open Tech Thursdays - OBX
DESCRIPTION:
URL:https://theobserverbuilding.org.uk/event/open-tech-thursdays-obx-15/2030-05-02/
LOCATION:Observer Building\, 53 Cambridge Road\, Hastings\, TN34 1DT\, United Kingdom
ATTACH;FMTTYPE=image/png:https://theobserverbuilding.org.uk/wp-content/uploads/2025/01/OPEN-TECh-THURSDAYS.png
ORGANIZER;CN="OBX":MAILTO:obx@hastingscommons.com
END:VEVENT
BEGIN:VEVENT
DTSTART;TZID=Europe/London:20300509T100000
DTEND;TZID=Europe/London:20300509T120000
DTSTAMP:20260420T090411
CREATED:20250120T160223Z
LAST-MODIFIED:20250120T160224Z
UID:10000821-1904551200-1904558400@theobserverbuilding.org.uk
SUMMARY:Open Tech Thursdays - OBX
DESCRIPTION:
URL:https://theobserverbuilding.org.uk/event/open-tech-thursdays-obx/2030-05-09/
LOCATION:Observer Building\, 53 Cambridge Road\, Hastings\, TN34 1DT\, United Kingdom
ATTACH;FMTTYPE=image/png:https://theobserverbuilding.org.uk/wp-content/uploads/2025/01/OPEN-TECh-THURSDAYS.png
ORGANIZER;CN="OBX":MAILTO:obx@hastingscommons.com
END:VEVENT
BEGIN:VEVENT
DTSTART;TZID=Europe/London:20300509T100000
DTEND;TZID=Europe/London:20300509T120000
DTSTAMP:20260420T090411
CREATED:20250609T075733Z
LAST-MODIFIED:20250609T075734Z
UID:10000797-1904551200-1904558400@theobserverbuilding.org.uk
SUMMARY:Open Tech Thursdays - OBX
DESCRIPTION:
URL:https://theobserverbuilding.org.uk/event/open-tech-thursdays-obx-15/2030-05-09/
LOCATION:Observer Building\, 53 Cambridge Road\, Hastings\, TN34 1DT\, United Kingdom
ATTACH;FMTTYPE=image/png:https://theobserverbuilding.org.uk/wp-content/uploads/2025/01/OPEN-TECh-THURSDAYS.png
ORGANIZER;CN="OBX":MAILTO:obx@hastingscommons.com
END:VEVENT
BEGIN:VEVENT
DTSTART;TZID=Europe/London:20300516T100000
DTEND;TZID=Europe/London:20300516T120000
DTSTAMP:20260420T090411
CREATED:20250120T160223Z
LAST-MODIFIED:20250120T160224Z
UID:10000822-1905156000-1905163200@theobserverbuilding.org.uk
SUMMARY:Open Tech Thursdays - OBX
DESCRIPTION:
URL:https://theobserverbuilding.org.uk/event/open-tech-thursdays-obx/2030-05-16/
LOCATION:Observer Building\, 53 Cambridge Road\, Hastings\, TN34 1DT\, United Kingdom
ATTACH;FMTTYPE=image/png:https://theobserverbuilding.org.uk/wp-content/uploads/2025/01/OPEN-TECh-THURSDAYS.png
ORGANIZER;CN="OBX":MAILTO:obx@hastingscommons.com
END:VEVENT
BEGIN:VEVENT
DTSTART;TZID=Europe/London:20300516T100000
DTEND;TZID=Europe/London:20300516T120000
DTSTAMP:20260420T090411
CREATED:20250609T075733Z
LAST-MODIFIED:20250609T075734Z
UID:10000827-1905156000-1905163200@theobserverbuilding.org.uk
SUMMARY:Open Tech Thursdays - OBX
DESCRIPTION:
URL:https://theobserverbuilding.org.uk/event/open-tech-thursdays-obx-15/2030-05-16/
LOCATION:Observer Building\, 53 Cambridge Road\, Hastings\, TN34 1DT\, United Kingdom
ATTACH;FMTTYPE=image/png:https://theobserverbuilding.org.uk/wp-content/uploads/2025/01/OPEN-TECh-THURSDAYS.png
ORGANIZER;CN="OBX":MAILTO:obx@hastingscommons.com
END:VEVENT
BEGIN:VEVENT
DTSTART;TZID=Europe/London:20300523T100000
DTEND;TZID=Europe/London:20300523T120000
DTSTAMP:20260420T090411
CREATED:20250120T160223Z
LAST-MODIFIED:20250120T160224Z
UID:10000823-1905760800-1905768000@theobserverbuilding.org.uk
SUMMARY:Open Tech Thursdays - OBX
DESCRIPTION:
URL:https://theobserverbuilding.org.uk/event/open-tech-thursdays-obx/2030-05-23/
LOCATION:Observer Building\, 53 Cambridge Road\, Hastings\, TN34 1DT\, United Kingdom
ATTACH;FMTTYPE=image/png:https://theobserverbuilding.org.uk/wp-content/uploads/2025/01/OPEN-TECh-THURSDAYS.png
ORGANIZER;CN="OBX":MAILTO:obx@hastingscommons.com
END:VEVENT
BEGIN:VEVENT
DTSTART;TZID=Europe/London:20300523T100000
DTEND;TZID=Europe/London:20300523T120000
DTSTAMP:20260420T090411
CREATED:20250609T075733Z
LAST-MODIFIED:20250609T075734Z
UID:10000828-1905760800-1905768000@theobserverbuilding.org.uk
SUMMARY:Open Tech Thursdays - OBX
DESCRIPTION:
URL:https://theobserverbuilding.org.uk/event/open-tech-thursdays-obx-15/2030-05-23/
LOCATION:Observer Building\, 53 Cambridge Road\, Hastings\, TN34 1DT\, United Kingdom
ATTACH;FMTTYPE=image/png:https://theobserverbuilding.org.uk/wp-content/uploads/2025/01/OPEN-TECh-THURSDAYS.png
ORGANIZER;CN="OBX":MAILTO:obx@hastingscommons.com
END:VEVENT
BEGIN:VEVENT
DTSTART;TZID=Europe/London:20300530T090000
DTEND;TZID=Europe/London:20300530T100000
DTSTAMP:20260420T090411
CREATED:20250121T104452Z
LAST-MODIFIED:20250121T104453Z
UID:10000840-1906362000-1906365600@theobserverbuilding.org.uk
SUMMARY:Hastings Tech Forum (in partnership with Vehicle Smart)
DESCRIPTION:Are you a local entrepreneur or tech professional? Do you work in UX design\, creative technology\, or digital marketing? Do you want to connect with likeminded people working in Hastings and St Leonards? \n\n\n\nCome to Hastings Tech Forum! \n\n\n\nStart your day with a coffee and the chance to meet other local people working in digital technology businesses. \n\n\n\nThis event is organised in partnership with Vehicle Smart who will sponsor a free coffee for all booked places! Book here! \n\n\n\nFind out more about Vehicle Smart here: https://www.vehiclesmart.com
URL:https://theobserverbuilding.org.uk/event/hastings-tech-forum-in-partnership-with-vehicle-smart/2030-05-30/
LOCATION:Observer Building\, 53 Cambridge Road\, Hastings\, TN34 1DT\, United Kingdom
ATTACH;FMTTYPE=image/jpeg:https://theobserverbuilding.org.uk/wp-content/uploads/2025/01/The-Tech-Forum.jpg
END:VEVENT
BEGIN:VEVENT
DTSTART;TZID=Europe/London:20300530T100000
DTEND;TZID=Europe/London:20300530T120000
DTSTAMP:20260420T090411
CREATED:20250120T160223Z
LAST-MODIFIED:20250120T160224Z
UID:10000824-1906365600-1906372800@theobserverbuilding.org.uk
SUMMARY:Open Tech Thursdays - OBX
DESCRIPTION:
URL:https://theobserverbuilding.org.uk/event/open-tech-thursdays-obx/2030-05-30/
LOCATION:Observer Building\, 53 Cambridge Road\, Hastings\, TN34 1DT\, United Kingdom
ATTACH;FMTTYPE=image/png:https://theobserverbuilding.org.uk/wp-content/uploads/2025/01/OPEN-TECh-THURSDAYS.png
ORGANIZER;CN="OBX":MAILTO:obx@hastingscommons.com
END:VEVENT
BEGIN:VEVENT
DTSTART;TZID=Europe/London:20300530T100000
DTEND;TZID=Europe/London:20300530T120000
DTSTAMP:20260420T090411
CREATED:20250609T075733Z
LAST-MODIFIED:20250609T075734Z
UID:10000829-1906365600-1906372800@theobserverbuilding.org.uk
SUMMARY:Open Tech Thursdays - OBX
DESCRIPTION:
URL:https://theobserverbuilding.org.uk/event/open-tech-thursdays-obx-15/2030-05-30/
LOCATION:Observer Building\, 53 Cambridge Road\, Hastings\, TN34 1DT\, United Kingdom
ATTACH;FMTTYPE=image/png:https://theobserverbuilding.org.uk/wp-content/uploads/2025/01/OPEN-TECh-THURSDAYS.png
ORGANIZER;CN="OBX":MAILTO:obx@hastingscommons.com
END:VEVENT
BEGIN:VEVENT
DTSTART;TZID=Europe/London:20300606T100000
DTEND;TZID=Europe/London:20300606T120000
DTSTAMP:20260420T090411
CREATED:20250120T160223Z
LAST-MODIFIED:20250120T160224Z
UID:10000825-1906970400-1906977600@theobserverbuilding.org.uk
SUMMARY:Open Tech Thursdays - OBX
DESCRIPTION:
URL:https://theobserverbuilding.org.uk/event/open-tech-thursdays-obx/2030-06-06/
LOCATION:Observer Building\, 53 Cambridge Road\, Hastings\, TN34 1DT\, United Kingdom
ATTACH;FMTTYPE=image/png:https://theobserverbuilding.org.uk/wp-content/uploads/2025/01/OPEN-TECh-THURSDAYS.png
ORGANIZER;CN="OBX":MAILTO:obx@hastingscommons.com
END:VEVENT
BEGIN:VEVENT
DTSTART;TZID=Europe/London:20300606T100000
DTEND;TZID=Europe/London:20300606T120000
DTSTAMP:20260420T090411
CREATED:20250609T075733Z
LAST-MODIFIED:20250609T075734Z
UID:10000830-1906970400-1906977600@theobserverbuilding.org.uk
SUMMARY:Open Tech Thursdays - OBX
DESCRIPTION:
URL:https://theobserverbuilding.org.uk/event/open-tech-thursdays-obx-15/2030-06-06/
LOCATION:Observer Building\, 53 Cambridge Road\, Hastings\, TN34 1DT\, United Kingdom
ATTACH;FMTTYPE=image/png:https://theobserverbuilding.org.uk/wp-content/uploads/2025/01/OPEN-TECh-THURSDAYS.png
ORGANIZER;CN="OBX":MAILTO:obx@hastingscommons.com
END:VEVENT
END:VCALENDAR