BEGIN:VCALENDAR
VERSION:2.0
PRODID:-//Observer Building - ECPv6.15.20//NONSGML v1.0//EN
CALSCALE:GREGORIAN
METHOD:PUBLISH
X-ORIGINAL-URL:https://theobserverbuilding.org.uk
X-WR-CALDESC:Events for Observer Building
REFRESH-INTERVAL;VALUE=DURATION:PT1H
X-Robots-Tag:noindex
X-PUBLISHED-TTL:PT1H
BEGIN:VTIMEZONE
TZID:Europe/London
BEGIN:DAYLIGHT
TZOFFSETFROM:+0000
TZOFFSETTO:+0100
TZNAME:BST
DTSTART:20240331T010000
END:DAYLIGHT
BEGIN:STANDARD
TZOFFSETFROM:+0100
TZOFFSETTO:+0000
TZNAME:GMT
DTSTART:20241027T010000
END:STANDARD
BEGIN:DAYLIGHT
TZOFFSETFROM:+0000
TZOFFSETTO:+0100
TZNAME:BST
DTSTART:20250330T010000
END:DAYLIGHT
BEGIN:STANDARD
TZOFFSETFROM:+0100
TZOFFSETTO:+0000
TZNAME:GMT
DTSTART:20251026T010000
END:STANDARD
BEGIN:DAYLIGHT
TZOFFSETFROM:+0000
TZOFFSETTO:+0100
TZNAME:BST
DTSTART:20260329T010000
END:DAYLIGHT
BEGIN:STANDARD
TZOFFSETFROM:+0100
TZOFFSETTO:+0000
TZNAME:GMT
DTSTART:20261025T010000
END:STANDARD
END:VTIMEZONE
BEGIN:VEVENT
DTSTART;TZID=Europe/London:20250511T100000
DTEND;TZID=Europe/London:20250511T170000
DTSTAMP:20260420T171506
CREATED:20250429T144859Z
LAST-MODIFIED:20250429T144901Z
UID:10000519-1746957600-1746982800@theobserverbuilding.org.uk
SUMMARY:Hastings Automata Festival - Sunday
DESCRIPTION:Come join us for this brand new Festival of Automata! We have limited tickets remaining for Sunday 11th May.  \n\n\n\nSunday ticket holders will have access to The Observer Building main event space. You will be able to meet the presenters\, see their automata\, visit the display areas\, and take part in automata-making activities. \n\n\n\nCheck out the full Sunday programme here. \n\n\n\nAdditionally\, on Sunday 11th May there will be display areas in The Vaults for the general public to enjoy the fun and magic of automata free of charge. \n\n\n\nBook your tickets here: https://automatafest.com/product/automatafest-sunday/
URL:https://theobserverbuilding.org.uk/event/hastings-automata-festival-sunday/
LOCATION:Hastings
ATTACH;FMTTYPE=image/jpeg:https://theobserverbuilding.org.uk/wp-content/uploads/2025/04/Cabaret-mechanical_page-0001-scaled.jpg
END:VEVENT
BEGIN:VEVENT
DTSTART;TZID=Europe/London:20250510T100000
DTEND;TZID=Europe/London:20250510T150000
DTSTAMP:20260420T171506
CREATED:20250422T082438Z
LAST-MODIFIED:20250422T091200Z
UID:10000516-1746871200-1746889200@theobserverbuilding.org.uk
SUMMARY:Stink or swim?! OBX workshop
DESCRIPTION:Wondering if it’s a good day to take a dip in the sea? Is it time to stink or swim?! \n\n\n\nJoin OBX for a day-long collaborative community workshop to make sculptures that move according to the sea pollution levels. These playful automata models will use sea quality data to help you know if it’s swimming day or not and are a community-driven response to the sewage dumping crisis. Think weather houses\, but with data! \n\n\n\nWhether you’re passionate about coding and electronics or you love crafting and collage\, this workshop is for everyone! All you need is your creativity and a willingness to collaborate. OBX staff will be on hand to help you realise your ideas. \n\n\n\nThe Stink or Swim?! workshop will be run by OBX (Hastings Commons’ tech-hub) in partnership with local community tech company Thingitude. The workshop is run alongside the AutomataFest\, and we will share the models we make at the AutomataFest open day on 11th May. \n\n\n\nFor more information about the event and to book a ticket please go to: https://www.eventbrite.co.uk/e/stink-or-swim-workshop-tickets-1318924862769
URL:https://theobserverbuilding.org.uk/event/stink-or-swim-obx-workshop/
LOCATION:Observer Building\, 53 Cambridge Road\, Hastings\, TN34 1DT\, United Kingdom
ATTACH;FMTTYPE=image/jpeg:https://theobserverbuilding.org.uk/wp-content/uploads/2025/04/stink-or-swim-header-image.jpg
ORGANIZER;CN="OBX":MAILTO:obx@hastingscommons.com
END:VEVENT
BEGIN:VEVENT
DTSTART;TZID=Europe/London:20250509T090000
DTEND;TZID=Europe/London:20250510T170000
DTSTAMP:20260420T171506
CREATED:20250429T145425Z
LAST-MODIFIED:20250429T145426Z
UID:10000520-1746781200-1746896400@theobserverbuilding.org.uk
SUMMARY:Festival Of Automata - Friday and Saturday
DESCRIPTION:Join us for this brand new\, three-day Festival of Automata! It is an opportunity for makers\, collectors\, enthusiasts\, and the simply curious to experience the vibrant UK automata scene. Learn from leading automatists\, meet fellow enthusiasts and view some of the finest contemporary automata in action.  \n\n\n\nAutomataFest will take place in The Observer Building and CMT’s Mechanical Making Space in Hastings\, UK on 9-11 May 2025.  \n\n\n\n3-Day Passes are SOLD OUT but you can join us on Sunday 11th May for a day of automata displays and automata-making activities.  \n\n\n\nBook your tickets here: https://automatafest.com/product/automatafest-sunday/
URL:https://theobserverbuilding.org.uk/event/festival-of-automata-friday-and-saturday/
LOCATION:Observer Building\, 53 Cambridge Road\, Hastings\, TN34 1DT\, United Kingdom
ATTACH;FMTTYPE=image/jpeg:https://theobserverbuilding.org.uk/wp-content/uploads/2025/04/Cabaret-mechanical_page-0001-1-scaled.jpg
END:VEVENT
BEGIN:VEVENT
DTSTART;TZID=Europe/London:20250508T100000
DTEND;TZID=Europe/London:20250508T120000
DTSTAMP:20260420T171506
CREATED:20250609T075733Z
LAST-MODIFIED:20250609T075734Z
UID:10000536-1746698400-1746705600@theobserverbuilding.org.uk
SUMMARY:Open Tech Thursdays - OBX
DESCRIPTION:
URL:https://theobserverbuilding.org.uk/event/open-tech-thursdays-obx-15/2025-05-08/
LOCATION:Observer Building\, 53 Cambridge Road\, Hastings\, TN34 1DT\, United Kingdom
ATTACH;FMTTYPE=image/png:https://theobserverbuilding.org.uk/wp-content/uploads/2025/01/OPEN-TECh-THURSDAYS.png
ORGANIZER;CN="OBX":MAILTO:obx@hastingscommons.com
END:VEVENT
BEGIN:VEVENT
DTSTART;TZID=Europe/London:20250508T100000
DTEND;TZID=Europe/London:20250508T120000
DTSTAMP:20260420T171506
CREATED:20250120T160223Z
LAST-MODIFIED:20250120T160224Z
UID:10000141-1746698400-1746705600@theobserverbuilding.org.uk
SUMMARY:Open Tech Thursdays - OBX
DESCRIPTION:
URL:https://theobserverbuilding.org.uk/event/open-tech-thursdays-obx/2025-05-08/
LOCATION:Observer Building\, 53 Cambridge Road\, Hastings\, TN34 1DT\, United Kingdom
ATTACH;FMTTYPE=image/png:https://theobserverbuilding.org.uk/wp-content/uploads/2025/01/OPEN-TECh-THURSDAYS.png
ORGANIZER;CN="OBX":MAILTO:obx@hastingscommons.com
END:VEVENT
BEGIN:VEVENT
DTSTART;TZID=Europe/London:20250505T180000
DTEND;TZID=Europe/London:20250505T203000
DTSTAMP:20260420T171506
CREATED:20250407T141921Z
LAST-MODIFIED:20250407T142032Z
UID:10000456-1746468000-1746477000@theobserverbuilding.org.uk
SUMMARY:OBX Open Tech Nights
DESCRIPTION:Open tech nights take place on the 1st Monday of the month. They are a volunteer and community led monthly evening meet up offering a chance to chat\, share knowledge and access technology.
URL:https://theobserverbuilding.org.uk/event/obx-open-tech-nights/2025-05-05/
LOCATION:Observer Building\, 53 Cambridge Road\, Hastings\, TN34 1DT\, United Kingdom
ORGANIZER;CN="OBX":MAILTO:obx@hastingscommons.com
END:VEVENT
BEGIN:VEVENT
DTSTART;TZID=Europe/London:20250501T100000
DTEND;TZID=Europe/London:20250501T120000
DTSTAMP:20260420T171506
CREATED:20250609T075733Z
LAST-MODIFIED:20250609T075734Z
UID:10000535-1746093600-1746100800@theobserverbuilding.org.uk
SUMMARY:Open Tech Thursdays - OBX
DESCRIPTION:
URL:https://theobserverbuilding.org.uk/event/open-tech-thursdays-obx-15/2025-05-01/
LOCATION:Observer Building\, 53 Cambridge Road\, Hastings\, TN34 1DT\, United Kingdom
ATTACH;FMTTYPE=image/png:https://theobserverbuilding.org.uk/wp-content/uploads/2025/01/OPEN-TECh-THURSDAYS.png
ORGANIZER;CN="OBX":MAILTO:obx@hastingscommons.com
END:VEVENT
BEGIN:VEVENT
DTSTART;TZID=Europe/London:20250501T100000
DTEND;TZID=Europe/London:20250501T120000
DTSTAMP:20260420T171506
CREATED:20250120T160223Z
LAST-MODIFIED:20250120T160224Z
UID:10000140-1746093600-1746100800@theobserverbuilding.org.uk
SUMMARY:Open Tech Thursdays - OBX
DESCRIPTION:
URL:https://theobserverbuilding.org.uk/event/open-tech-thursdays-obx/2025-05-01/
LOCATION:Observer Building\, 53 Cambridge Road\, Hastings\, TN34 1DT\, United Kingdom
ATTACH;FMTTYPE=image/png:https://theobserverbuilding.org.uk/wp-content/uploads/2025/01/OPEN-TECh-THURSDAYS.png
ORGANIZER;CN="OBX":MAILTO:obx@hastingscommons.com
END:VEVENT
BEGIN:VEVENT
DTSTART;TZID=Europe/London:20250424T100000
DTEND;TZID=Europe/London:20250424T120000
DTSTAMP:20260420T171506
CREATED:20250609T075733Z
LAST-MODIFIED:20250609T075734Z
UID:10000534-1745488800-1745496000@theobserverbuilding.org.uk
SUMMARY:Open Tech Thursdays - OBX
DESCRIPTION:
URL:https://theobserverbuilding.org.uk/event/open-tech-thursdays-obx-15/2025-04-24/
LOCATION:Observer Building\, 53 Cambridge Road\, Hastings\, TN34 1DT\, United Kingdom
ATTACH;FMTTYPE=image/png:https://theobserverbuilding.org.uk/wp-content/uploads/2025/01/OPEN-TECh-THURSDAYS.png
ORGANIZER;CN="OBX":MAILTO:obx@hastingscommons.com
END:VEVENT
BEGIN:VEVENT
DTSTART;TZID=Europe/London:20250424T100000
DTEND;TZID=Europe/London:20250424T120000
DTSTAMP:20260420T171506
CREATED:20250120T160223Z
LAST-MODIFIED:20250120T160224Z
UID:10000139-1745488800-1745496000@theobserverbuilding.org.uk
SUMMARY:Open Tech Thursdays - OBX
DESCRIPTION:
URL:https://theobserverbuilding.org.uk/event/open-tech-thursdays-obx/2025-04-24/
LOCATION:Observer Building\, 53 Cambridge Road\, Hastings\, TN34 1DT\, United Kingdom
ATTACH;FMTTYPE=image/png:https://theobserverbuilding.org.uk/wp-content/uploads/2025/01/OPEN-TECh-THURSDAYS.png
ORGANIZER;CN="OBX":MAILTO:obx@hastingscommons.com
END:VEVENT
BEGIN:VEVENT
DTSTART;TZID=Europe/London:20250424T090000
DTEND;TZID=Europe/London:20250424T100000
DTSTAMP:20260420T171506
CREATED:20250121T104452Z
LAST-MODIFIED:20250121T104453Z
UID:10000390-1745485200-1745488800@theobserverbuilding.org.uk
SUMMARY:Hastings Tech Forum (in partnership with Vehicle Smart)
DESCRIPTION:Are you a local entrepreneur or tech professional? Do you work in UX design\, creative technology\, or digital marketing? Do you want to connect with likeminded people working in Hastings and St Leonards? \n\n\n\nCome to Hastings Tech Forum! \n\n\n\nStart your day with a coffee and the chance to meet other local people working in digital technology businesses. \n\n\n\nThis event is organised in partnership with Vehicle Smart who will sponsor a free coffee for all booked places! Book here! \n\n\n\nFind out more about Vehicle Smart here: https://www.vehiclesmart.com
URL:https://theobserverbuilding.org.uk/event/hastings-tech-forum-in-partnership-with-vehicle-smart/2025-04-24/
LOCATION:Observer Building\, 53 Cambridge Road\, Hastings\, TN34 1DT\, United Kingdom
ATTACH;FMTTYPE=image/jpeg:https://theobserverbuilding.org.uk/wp-content/uploads/2025/01/The-Tech-Forum.jpg
END:VEVENT
BEGIN:VEVENT
DTSTART;TZID=Europe/London:20250419T193000
DTEND;TZID=Europe/London:20250419T230000
DTSTAMP:20260420T171506
CREATED:20250331T094548Z
LAST-MODIFIED:20250331T094548Z
UID:10000454-1745091000-1745103600@theobserverbuilding.org.uk
SUMMARY:Gig: Monumental\, plus special guests Happy Neighbours
DESCRIPTION:Monumental are the most exciting new band to come out of Essex in years.  An exhilarating blend of influences – The Who\, The Jam\, Dr Feelgood\, and others\, coandensed into snappy self-penned numbers with infectious rhythms\, blistering guitars\, fronted by a charismatic young lead singer.  \n\n\n\nWith an ever increasing number of gigs in their  home county\, around the capital and the south coast\, Monumental are the band people are talking about.     \n\n\n\nSupporting Monumental will be very special guests\, emerging indie group\, Happy Neighbours. \n\n\n\nDelivering a quintessential indie rock experience\, with a youthful contemporary twist\, the band formed in London\, 2020 with a blend of inspiration from iconic bands like Blur\, Oasis\, The Stone Roses and The La’s. \n\n\n\nTickets can be purchased here: https://ticketlab.app/event/27057-Monumental-with-special-guests-Happy-Neighbours-tickets#/
URL:https://theobserverbuilding.org.uk/event/gig-monumental-plus-special-guests-happy-neighbours/
LOCATION:Observer Building\, 53 Cambridge Road\, Hastings\, TN34 1DT\, United Kingdom
ATTACH;FMTTYPE=image/jpeg:https://theobserverbuilding.org.uk/wp-content/uploads/2025/03/MONUMENTAL-FLYER.jpg
END:VEVENT
BEGIN:VEVENT
DTSTART;TZID=Europe/London:20250417T100000
DTEND;TZID=Europe/London:20250417T120000
DTSTAMP:20260420T171506
CREATED:20250609T075733Z
LAST-MODIFIED:20250609T075734Z
UID:10000533-1744884000-1744891200@theobserverbuilding.org.uk
SUMMARY:Open Tech Thursdays - OBX
DESCRIPTION:
URL:https://theobserverbuilding.org.uk/event/open-tech-thursdays-obx-15/2025-04-17/
LOCATION:Observer Building\, 53 Cambridge Road\, Hastings\, TN34 1DT\, United Kingdom
ATTACH;FMTTYPE=image/png:https://theobserverbuilding.org.uk/wp-content/uploads/2025/01/OPEN-TECh-THURSDAYS.png
ORGANIZER;CN="OBX":MAILTO:obx@hastingscommons.com
END:VEVENT
BEGIN:VEVENT
DTSTART;TZID=Europe/London:20250417T100000
DTEND;TZID=Europe/London:20250417T120000
DTSTAMP:20260420T171506
CREATED:20250120T160223Z
LAST-MODIFIED:20250120T160224Z
UID:10000138-1744884000-1744891200@theobserverbuilding.org.uk
SUMMARY:Open Tech Thursdays - OBX
DESCRIPTION:
URL:https://theobserverbuilding.org.uk/event/open-tech-thursdays-obx/2025-04-17/
LOCATION:Observer Building\, 53 Cambridge Road\, Hastings\, TN34 1DT\, United Kingdom
ATTACH;FMTTYPE=image/png:https://theobserverbuilding.org.uk/wp-content/uploads/2025/01/OPEN-TECh-THURSDAYS.png
ORGANIZER;CN="OBX":MAILTO:obx@hastingscommons.com
END:VEVENT
BEGIN:VEVENT
DTSTART;TZID=Europe/London:20250411T120000
DTEND;TZID=Europe/London:20250411T150000
DTSTAMP:20260420T171507
CREATED:20250319T105140Z
LAST-MODIFIED:20250319T105141Z
UID:10000453-1744372800-1744383600@theobserverbuilding.org.uk
SUMMARY:April Danceaway
DESCRIPTION:Join us for our Over 60’s only April Danceaway! \n\n\n\nLive entertainment always. Dance the day away!  \n\n\n\nOur fully licensed bar will be available as well as hot drinks and light lunch bites.
URL:https://theobserverbuilding.org.uk/event/april-danceaway/
LOCATION:Observer Building\, 53 Cambridge Road\, Hastings\, TN34 1DT\, United Kingdom
ATTACH;FMTTYPE=image/png:https://theobserverbuilding.org.uk/wp-content/uploads/2025/03/April-Danceaway.png
END:VEVENT
BEGIN:VEVENT
DTSTART;TZID=Europe/London:20250410T100000
DTEND;TZID=Europe/London:20250410T120000
DTSTAMP:20260420T171507
CREATED:20250609T075733Z
LAST-MODIFIED:20250609T075734Z
UID:10000532-1744279200-1744286400@theobserverbuilding.org.uk
SUMMARY:Open Tech Thursdays - OBX
DESCRIPTION:
URL:https://theobserverbuilding.org.uk/event/open-tech-thursdays-obx-15/2025-04-10/
LOCATION:Observer Building\, 53 Cambridge Road\, Hastings\, TN34 1DT\, United Kingdom
ATTACH;FMTTYPE=image/png:https://theobserverbuilding.org.uk/wp-content/uploads/2025/01/OPEN-TECh-THURSDAYS.png
ORGANIZER;CN="OBX":MAILTO:obx@hastingscommons.com
END:VEVENT
BEGIN:VEVENT
DTSTART;TZID=Europe/London:20250410T100000
DTEND;TZID=Europe/London:20250410T120000
DTSTAMP:20260420T171507
CREATED:20250120T160223Z
LAST-MODIFIED:20250120T160224Z
UID:10000137-1744279200-1744286400@theobserverbuilding.org.uk
SUMMARY:Open Tech Thursdays - OBX
DESCRIPTION:
URL:https://theobserverbuilding.org.uk/event/open-tech-thursdays-obx/2025-04-10/
LOCATION:Observer Building\, 53 Cambridge Road\, Hastings\, TN34 1DT\, United Kingdom
ATTACH;FMTTYPE=image/png:https://theobserverbuilding.org.uk/wp-content/uploads/2025/01/OPEN-TECh-THURSDAYS.png
ORGANIZER;CN="OBX":MAILTO:obx@hastingscommons.com
END:VEVENT
BEGIN:VEVENT
DTSTART;TZID=Europe/London:20250407T180000
DTEND;TZID=Europe/London:20250407T203000
DTSTAMP:20260420T171507
CREATED:20250407T141921Z
LAST-MODIFIED:20250407T142032Z
UID:10000455-1744048800-1744057800@theobserverbuilding.org.uk
SUMMARY:OBX Open Tech Nights
DESCRIPTION:Open tech nights take place on the 1st Monday of the month. They are a volunteer and community led monthly evening meet up offering a chance to chat\, share knowledge and access technology.
URL:https://theobserverbuilding.org.uk/event/obx-open-tech-nights/2025-04-07/
LOCATION:Observer Building\, 53 Cambridge Road\, Hastings\, TN34 1DT\, United Kingdom
ORGANIZER;CN="OBX":MAILTO:obx@hastingscommons.com
END:VEVENT
BEGIN:VEVENT
DTSTART;TZID=Europe/London:20250403T100000
DTEND;TZID=Europe/London:20250403T120000
DTSTAMP:20260420T171507
CREATED:20250609T075733Z
LAST-MODIFIED:20250609T075734Z
UID:10000531-1743674400-1743681600@theobserverbuilding.org.uk
SUMMARY:Open Tech Thursdays - OBX
DESCRIPTION:
URL:https://theobserverbuilding.org.uk/event/open-tech-thursdays-obx-15/2025-04-03/
LOCATION:Observer Building\, 53 Cambridge Road\, Hastings\, TN34 1DT\, United Kingdom
ATTACH;FMTTYPE=image/png:https://theobserverbuilding.org.uk/wp-content/uploads/2025/01/OPEN-TECh-THURSDAYS.png
ORGANIZER;CN="OBX":MAILTO:obx@hastingscommons.com
END:VEVENT
BEGIN:VEVENT
DTSTART;TZID=Europe/London:20250403T100000
DTEND;TZID=Europe/London:20250403T120000
DTSTAMP:20260420T171507
CREATED:20250120T160223Z
LAST-MODIFIED:20250120T160224Z
UID:10000136-1743674400-1743681600@theobserverbuilding.org.uk
SUMMARY:Open Tech Thursdays - OBX
DESCRIPTION:
URL:https://theobserverbuilding.org.uk/event/open-tech-thursdays-obx/2025-04-03/
LOCATION:Observer Building\, 53 Cambridge Road\, Hastings\, TN34 1DT\, United Kingdom
ATTACH;FMTTYPE=image/png:https://theobserverbuilding.org.uk/wp-content/uploads/2025/01/OPEN-TECh-THURSDAYS.png
ORGANIZER;CN="OBX":MAILTO:obx@hastingscommons.com
END:VEVENT
BEGIN:VEVENT
DTSTART;TZID=Europe/London:20250327T100000
DTEND;TZID=Europe/London:20250327T120000
DTSTAMP:20260420T171507
CREATED:20250609T075733Z
LAST-MODIFIED:20250609T075734Z
UID:10000530-1743069600-1743076800@theobserverbuilding.org.uk
SUMMARY:Open Tech Thursdays - OBX
DESCRIPTION:
URL:https://theobserverbuilding.org.uk/event/open-tech-thursdays-obx-15/2025-03-27/
LOCATION:Observer Building\, 53 Cambridge Road\, Hastings\, TN34 1DT\, United Kingdom
ATTACH;FMTTYPE=image/png:https://theobserverbuilding.org.uk/wp-content/uploads/2025/01/OPEN-TECh-THURSDAYS.png
ORGANIZER;CN="OBX":MAILTO:obx@hastingscommons.com
END:VEVENT
BEGIN:VEVENT
DTSTART;TZID=Europe/London:20250327T100000
DTEND;TZID=Europe/London:20250327T120000
DTSTAMP:20260420T171507
CREATED:20250120T160223Z
LAST-MODIFIED:20250120T160224Z
UID:10000135-1743069600-1743076800@theobserverbuilding.org.uk
SUMMARY:Open Tech Thursdays - OBX
DESCRIPTION:
URL:https://theobserverbuilding.org.uk/event/open-tech-thursdays-obx/2025-03-27/
LOCATION:Observer Building\, 53 Cambridge Road\, Hastings\, TN34 1DT\, United Kingdom
ATTACH;FMTTYPE=image/png:https://theobserverbuilding.org.uk/wp-content/uploads/2025/01/OPEN-TECh-THURSDAYS.png
ORGANIZER;CN="OBX":MAILTO:obx@hastingscommons.com
END:VEVENT
BEGIN:VEVENT
DTSTART;TZID=Europe/London:20250327T090000
DTEND;TZID=Europe/London:20250327T100000
DTSTAMP:20260420T171507
CREATED:20250121T104452Z
LAST-MODIFIED:20250121T104453Z
UID:10000389-1743066000-1743069600@theobserverbuilding.org.uk
SUMMARY:Hastings Tech Forum (in partnership with Vehicle Smart)
DESCRIPTION:Are you a local entrepreneur or tech professional? Do you work in UX design\, creative technology\, or digital marketing? Do you want to connect with likeminded people working in Hastings and St Leonards? \n\n\n\nCome to Hastings Tech Forum! \n\n\n\nStart your day with a coffee and the chance to meet other local people working in digital technology businesses. \n\n\n\nThis event is organised in partnership with Vehicle Smart who will sponsor a free coffee for all booked places! Book here! \n\n\n\nFind out more about Vehicle Smart here: https://www.vehiclesmart.com
URL:https://theobserverbuilding.org.uk/event/hastings-tech-forum-in-partnership-with-vehicle-smart/2025-03-27/
LOCATION:Observer Building\, 53 Cambridge Road\, Hastings\, TN34 1DT\, United Kingdom
ATTACH;FMTTYPE=image/jpeg:https://theobserverbuilding.org.uk/wp-content/uploads/2025/01/The-Tech-Forum.jpg
END:VEVENT
BEGIN:VEVENT
DTSTART;TZID=Europe/London:20250322T100000
DTEND;TZID=Europe/London:20250322T160000
DTSTAMP:20260420T171507
CREATED:20250115T160019Z
LAST-MODIFIED:20250129T102356Z
UID:10000125-1742637600-1742659200@theobserverbuilding.org.uk
SUMMARY:Spring Market
DESCRIPTION:Join us for a Spring market at the Observer Building!  \n\n\n\nIf you’re interested in joining us as a stall holder\, please apply via this form. \n\n\n\nIf you want more information as a stall holder\, check out our stall holder FAQ page:https://theobserverbuilding.org.uk/at-the-ob/markets-at-the-ob/
URL:https://theobserverbuilding.org.uk/event/spring-market/
LOCATION:Observer Building\, 53 Cambridge Road\, Hastings\, TN34 1DT\, United Kingdom
ATTACH;FMTTYPE=image/png:https://theobserverbuilding.org.uk/wp-content/uploads/2025/01/SPRING-MARKET-2025.png
END:VEVENT
BEGIN:VEVENT
DTSTART;TZID=Europe/London:20250320T100000
DTEND;TZID=Europe/London:20250320T120000
DTSTAMP:20260420T171507
CREATED:20250609T075733Z
LAST-MODIFIED:20250609T075734Z
UID:10000529-1742464800-1742472000@theobserverbuilding.org.uk
SUMMARY:Open Tech Thursdays - OBX
DESCRIPTION:
URL:https://theobserverbuilding.org.uk/event/open-tech-thursdays-obx-15/2025-03-20/
LOCATION:Observer Building\, 53 Cambridge Road\, Hastings\, TN34 1DT\, United Kingdom
ATTACH;FMTTYPE=image/png:https://theobserverbuilding.org.uk/wp-content/uploads/2025/01/OPEN-TECh-THURSDAYS.png
ORGANIZER;CN="OBX":MAILTO:obx@hastingscommons.com
END:VEVENT
BEGIN:VEVENT
DTSTART;TZID=Europe/London:20250320T100000
DTEND;TZID=Europe/London:20250320T120000
DTSTAMP:20260420T171507
CREATED:20250120T160223Z
LAST-MODIFIED:20250120T160224Z
UID:10000134-1742464800-1742472000@theobserverbuilding.org.uk
SUMMARY:Open Tech Thursdays - OBX
DESCRIPTION:
URL:https://theobserverbuilding.org.uk/event/open-tech-thursdays-obx/2025-03-20/
LOCATION:Observer Building\, 53 Cambridge Road\, Hastings\, TN34 1DT\, United Kingdom
ATTACH;FMTTYPE=image/png:https://theobserverbuilding.org.uk/wp-content/uploads/2025/01/OPEN-TECh-THURSDAYS.png
ORGANIZER;CN="OBX":MAILTO:obx@hastingscommons.com
END:VEVENT
BEGIN:VEVENT
DTSTART;TZID=Europe/London:20250314T120000
DTEND;TZID=Europe/London:20250314T150000
DTSTAMP:20260420T171507
CREATED:20250218T135532Z
LAST-MODIFIED:20250218T135533Z
UID:10000451-1741953600-1741964400@theobserverbuilding.org.uk
SUMMARY:March Danceaway
DESCRIPTION:Join us for a Springtime Danceaway! 💐 \n\n\n\nStep back in time and groove to the classics atour Danceaway! Get ready to dance the dayaway to the unforgettable vocals of singerRitchie Lee. \n\n\n\nOver 60s only. Venue is fully accessible with a licenced bar. Coffee and food available during the event. \n\n\n\n£5 entry fee at the door – just turn up on the day\, there is no need to book.
URL:https://theobserverbuilding.org.uk/event/march-danceaway/
LOCATION:Observer Building\, 53 Cambridge Road\, Hastings\, TN34 1DT\, United Kingdom
ATTACH;FMTTYPE=image/png:https://theobserverbuilding.org.uk/wp-content/uploads/2025/02/March-Danceaway.png
END:VEVENT
BEGIN:VEVENT
DTSTART;TZID=Europe/London:20250313T183000
DTEND;TZID=Europe/London:20250318T190000
DTSTAMP:20260420T171507
CREATED:20250204T121318Z
LAST-MODIFIED:20250303T104631Z
UID:10000450-1741890600-1742324400@theobserverbuilding.org.uk
SUMMARY:The Tell - Tale Rooms
DESCRIPTION:A ground breaking immersive VR experience\, The Tell-Tale Rooms by Eden and Andrew Kötting\, comes to OBX at Hastings Commons\, from 13 to 18 March. \n\n\n\nThe film and exhibition invite audiences to step into the extraordinary world of visually impaired\, neurodivergent Hastings artist Eden Kötting. \n\n\n\nBlending animation\, archive footage\, and live action\, this 360° VR film takes viewers on a journey through Eden’s imagination\, revealing a world where art\, memory\, and dreams collide. \n\n\n\nEntry is free and available for drop-ins from 13-18 March. Exhibition takes place at the ground floor of the Observer Building\, access via the Alley\, Claremont\, Hastings TN34 1DT. The venue is step free. Visit our access guide for more information or please contact obx@hastingscommons.com with any access questions.  \n\n\n\nTo celebrate the opening of the film\, Andrew will be speaking as part of OBX Connects\, a programme of talks by local and national digital artists on varied topics. OBX Connects talk is free\, but requires sign-up . \n\n\n\nOpening times:Thursday 13 March 6:30-9pm (talk and opening night) Friday 14 March\, 4-7pmSaturday 15 March\, 10-5pmSunday 16 March\, 10-5pmMonday 17 March\, 4-7pmTuesday 18 March\, 4-7pm \n\n\n\nPlease contact obx@hastingscommons.com or call 01424 235600 with any questions. \n\n\n\nPlease note this exhibition is not suitable for those aged 9 and under.
URL:https://theobserverbuilding.org.uk/event/tell-tale-rooms/
LOCATION:OBX\, The Observer Building\, Hastings\, TN34 1DT
ATTACH;FMTTYPE=image/jpeg:https://theobserverbuilding.org.uk/wp-content/uploads/2025/02/FLAT-WORLD-VIRTUAL-WORLD.jpg
ORGANIZER;CN="OBX":MAILTO:obx@hastingscommons.com
END:VEVENT
BEGIN:VEVENT
DTSTART;TZID=Europe/London:20250313T100000
DTEND;TZID=Europe/London:20250313T120000
DTSTAMP:20260420T171507
CREATED:20250609T075733Z
LAST-MODIFIED:20250609T075734Z
UID:10000528-1741860000-1741867200@theobserverbuilding.org.uk
SUMMARY:Open Tech Thursdays - OBX
DESCRIPTION:
URL:https://theobserverbuilding.org.uk/event/open-tech-thursdays-obx-15/2025-03-13/
LOCATION:Observer Building\, 53 Cambridge Road\, Hastings\, TN34 1DT\, United Kingdom
ATTACH;FMTTYPE=image/png:https://theobserverbuilding.org.uk/wp-content/uploads/2025/01/OPEN-TECh-THURSDAYS.png
ORGANIZER;CN="OBX":MAILTO:obx@hastingscommons.com
END:VEVENT
BEGIN:VEVENT
DTSTART;TZID=Europe/London:20250313T100000
DTEND;TZID=Europe/London:20250313T120000
DTSTAMP:20260420T171507
CREATED:20250120T160223Z
LAST-MODIFIED:20250120T160224Z
UID:10000133-1741860000-1741867200@theobserverbuilding.org.uk
SUMMARY:Open Tech Thursdays - OBX
DESCRIPTION:
URL:https://theobserverbuilding.org.uk/event/open-tech-thursdays-obx/2025-03-13/
LOCATION:Observer Building\, 53 Cambridge Road\, Hastings\, TN34 1DT\, United Kingdom
ATTACH;FMTTYPE=image/png:https://theobserverbuilding.org.uk/wp-content/uploads/2025/01/OPEN-TECh-THURSDAYS.png
ORGANIZER;CN="OBX":MAILTO:obx@hastingscommons.com
END:VEVENT
END:VCALENDAR